BEGIN:VCALENDAR
VERSION:2.0
PRODID:-//Ajuntament Horta de Sant Joan - ECPv6.11.2.1//NONSGML v1.0//EN
CALSCALE:GREGORIAN
METHOD:PUBLISH
X-ORIGINAL-URL:http://hortadesantjoan.cat
X-WR-CALDESC:Esdeveniments per Ajuntament Horta de Sant Joan
REFRESH-INTERVAL;VALUE=DURATION:PT1H
X-Robots-Tag:noindex
X-PUBLISHED-TTL:PT1H
BEGIN:VTIMEZONE
TZID:Europe/Paris
BEGIN:DAYLIGHT
TZOFFSETFROM:+0100
TZOFFSETTO:+0200
TZNAME:CEST
DTSTART:20260329T010000
END:DAYLIGHT
BEGIN:STANDARD
TZOFFSETFROM:+0200
TZOFFSETTO:+0100
TZNAME:CET
DTSTART:20261025T010000
END:STANDARD
END:VTIMEZONE
BEGIN:VEVENT
DTSTART;TZID=Europe/Paris:20260301T180000
DTEND;TZID=Europe/Paris:20260301T210000
DTSTAMP:20260423T115512
CREATED:20260216T093319Z
LAST-MODIFIED:20260216T093322Z
UID:9832-1772388000-1772398800@hortadesantjoan.cat
SUMMARY:CINEMA MUNICIPAL DIA 1 DE MARÇ
DESCRIPTION:
URL:http://hortadesantjoan.cat/event/cinema-municipal-dia-1-de-marc/
ATTACH;FMTTYPE=image/jpeg:http://hortadesantjoan.cat/wp-content/uploads/2026/02/UNA-BATALLA-TRAS-OTRA.jpg
END:VEVENT
BEGIN:VEVENT
DTSTART;TZID=Europe/Paris:20260307T170000
DTEND;TZID=Europe/Paris:20260307T200000
DTSTAMP:20260423T115512
CREATED:20260227T094749Z
LAST-MODIFIED:20260227T094752Z
UID:9868-1772902800-1772913600@hortadesantjoan.cat
SUMMARY:DIA INTERNACIONAL DE LA DONA
DESCRIPTION:
URL:http://hortadesantjoan.cat/event/dia-internacional-de-la-dona/
ATTACH;FMTTYPE=image/jpeg:http://hortadesantjoan.cat/wp-content/uploads/2026/02/IMG-20260225-WA0001.jpg
END:VEVENT
BEGIN:VEVENT
DTSTART;TZID=Europe/Paris:20260308T180000
DTEND;TZID=Europe/Paris:20260308T210000
DTSTAMP:20260423T115512
CREATED:20260216T093454Z
LAST-MODIFIED:20260216T093457Z
UID:9836-1772992800-1773003600@hortadesantjoan.cat
SUMMARY:CINEMA MUNICIPAL DIA 8 DE MARÇ
DESCRIPTION:
URL:http://hortadesantjoan.cat/event/cinema-municipal-dia-8-de-marc/
ATTACH;FMTTYPE=image/jpeg:http://hortadesantjoan.cat/wp-content/uploads/2026/02/FRANKENSTEIN.jpg
END:VEVENT
BEGIN:VEVENT
DTSTART;TZID=Europe/Paris:20260315T180000
DTEND;TZID=Europe/Paris:20260315T210000
DTSTAMP:20260423T115512
CREATED:20260216T093633Z
LAST-MODIFIED:20260216T093636Z
UID:9840-1773597600-1773608400@hortadesantjoan.cat
SUMMARY:CINEMA MUNICIPAL DIA 15 DE MARÇ DE 2026
DESCRIPTION:
URL:http://hortadesantjoan.cat/event/cinema-municipal-dia-15-de-marc-de-2026/
ATTACH;FMTTYPE=image/jpeg:http://hortadesantjoan.cat/wp-content/uploads/2026/02/SIRAT.jpg
END:VEVENT
BEGIN:VEVENT
DTSTART;TZID=Europe/Paris:20260322T180000
DTEND;TZID=Europe/Paris:20260322T210000
DTSTAMP:20260423T115512
CREATED:20260216T093859Z
LAST-MODIFIED:20260216T093902Z
UID:9844-1774202400-1774213200@hortadesantjoan.cat
SUMMARY:CINEMA MUNICIPAL DIA 22 DE MARÇ DE 2026
DESCRIPTION:
URL:http://hortadesantjoan.cat/event/cinema-municipal-dia-22-de-marc-de-2026/
ATTACH;FMTTYPE=image/jpeg:http://hortadesantjoan.cat/wp-content/uploads/2026/02/MARTY-SUPREME.jpg
END:VEVENT
BEGIN:VEVENT
DTSTART;TZID=Europe/Paris:20260329T180000
DTEND;TZID=Europe/Paris:20260329T210000
DTSTAMP:20260423T115512
CREATED:20260216T094104Z
LAST-MODIFIED:20260216T094107Z
UID:9848-1774807200-1774818000@hortadesantjoan.cat
SUMMARY:CINEMA MUNICIPAL DIA 29 DE MARÇ DE 2026
DESCRIPTION:
URL:http://hortadesantjoan.cat/event/cinema-municipal-dia-29-de-marc-de-2026/
ATTACH;FMTTYPE=image/jpeg:http://hortadesantjoan.cat/wp-content/uploads/2026/02/hamnet.jpg
END:VEVENT
END:VCALENDAR