BEGIN:VCALENDAR
VERSION:2.0
PRODID:-//Ajuntament Horta de Sant Joan - ECPv6.11.2.1//NONSGML v1.0//EN
CALSCALE:GREGORIAN
METHOD:PUBLISH
X-ORIGINAL-URL:https://hortadesantjoan.cat
X-WR-CALDESC:Esdeveniments per Ajuntament Horta de Sant Joan
REFRESH-INTERVAL;VALUE=DURATION:PT1H
X-Robots-Tag:noindex
X-PUBLISHED-TTL:PT1H
BEGIN:VTIMEZONE
TZID:Europe/Paris
BEGIN:DAYLIGHT
TZOFFSETFROM:+0100
TZOFFSETTO:+0200
TZNAME:CEST
DTSTART:20240331T010000
END:DAYLIGHT
BEGIN:STANDARD
TZOFFSETFROM:+0200
TZOFFSETTO:+0100
TZNAME:CET
DTSTART:20241027T010000
END:STANDARD
BEGIN:DAYLIGHT
TZOFFSETFROM:+0100
TZOFFSETTO:+0200
TZNAME:CEST
DTSTART:20250330T010000
END:DAYLIGHT
BEGIN:STANDARD
TZOFFSETFROM:+0200
TZOFFSETTO:+0100
TZNAME:CET
DTSTART:20251026T010000
END:STANDARD
END:VTIMEZONE
BEGIN:VEVENT
DTSTART;TZID=Europe/Paris:20241028T080000
DTEND;TZID=Europe/Paris:20241216T230000
DTSTAMP:20260420T062613
CREATED:20241028T134216Z
LAST-MODIFIED:20241028T135721Z
UID:8835-1730102400-1734390000@hortadesantjoan.cat
SUMMARY:XERRADES DE LA FARMÀCIA
DESCRIPTION:
URL:https://hortadesantjoan.cat/event/xerrades-de-la-farmacia/
ATTACH;FMTTYPE=image/jpeg:https://hortadesantjoan.cat/wp-content/uploads/2024/10/XERRADES-.jpg
END:VEVENT
BEGIN:VEVENT
DTSTART;TZID=Europe/Paris:20241210T080000
DTEND;TZID=Europe/Paris:20241215T200000
DTSTAMP:20260420T062613
CREATED:20241210T100235Z
LAST-MODIFIED:20241210T100237Z
UID:8892-1733817600-1734292800@hortadesantjoan.cat
SUMMARY:CINEMA MUNICIPAL 15 DE DESEMBRE DE 2024
DESCRIPTION:
URL:https://hortadesantjoan.cat/event/cinema-municipal-15-de-desembre-de-2024/
ATTACH;FMTTYPE=image/jpeg:https://hortadesantjoan.cat/wp-content/uploads/2024/12/la-infiltrada.jpg
END:VEVENT
BEGIN:VEVENT
DTSTART;TZID=Europe/Paris:20241210T080000
DTEND;TZID=Europe/Paris:20250101T170000
DTSTAMP:20260420T062613
CREATED:20241210T094250Z
LAST-MODIFIED:20241210T094252Z
UID:8886-1733817600-1735750800@hortadesantjoan.cat
SUMMARY:FESTA DE CAP D'ANY 2025
DESCRIPTION:
URL:https://hortadesantjoan.cat/event/festa-de-cap-dany-2025/
ATTACH;FMTTYPE=image/jpeg:https://hortadesantjoan.cat/wp-content/uploads/2024/12/Cartell-Festa-Fi-dAny.jpeg
END:VEVENT
BEGIN:VEVENT
DTSTART;TZID=Europe/Paris:20241217T080000
DTEND;TZID=Europe/Paris:20241229T203000
DTSTAMP:20260420T062613
CREATED:20241217T091803Z
LAST-MODIFIED:20241220T125642Z
UID:8896-1734422400-1735504200@hortadesantjoan.cat
SUMMARY:CINEMA DIA 28 DE DESEMBRE DE 2024
DESCRIPTION:
URL:https://hortadesantjoan.cat/event/cinema-dia-22-de-desembre-de-2024/
ATTACH;FMTTYPE=image/jpeg:https://hortadesantjoan.cat/wp-content/uploads/2024/12/emilia-perez.jpg
END:VEVENT
BEGIN:VEVENT
DTSTART;TZID=Europe/Paris:20241219T080000
DTEND;TZID=Europe/Paris:20241222T203000
DTSTAMP:20260420T062613
CREATED:20241217T091914Z
LAST-MODIFIED:20241220T125600Z
UID:8900-1734595200-1734899400@hortadesantjoan.cat
SUMMARY:CINEMA DIA 22 DE DESEMBRE DE 2024
DESCRIPTION:
URL:https://hortadesantjoan.cat/event/cinema-dia-29-de-desembre-de-2024/
ATTACH;FMTTYPE=image/jpeg:https://hortadesantjoan.cat/wp-content/uploads/2024/12/niko-mas-alla-de-la-aurora-boreal.jpg
END:VEVENT
BEGIN:VEVENT
DTSTART;TZID=Europe/Paris:20250103T080000
DTEND;TZID=Europe/Paris:20250104T180000
DTSTAMP:20260420T062613
CREATED:20250103T130407Z
LAST-MODIFIED:20250103T130409Z
UID:8908-1735891200-1736013600@hortadesantjoan.cat
SUMMARY:CINEMA MUNICIPAL DIA 4 DE GENER DE 2025
DESCRIPTION:
URL:https://hortadesantjoan.cat/event/cinema-municipal-dia-4-de-gener-de-2025/
ATTACH;FMTTYPE=image/jpeg:https://hortadesantjoan.cat/wp-content/uploads/2025/01/QUIEN-ES-QUIEN.jpg
END:VEVENT
BEGIN:VEVENT
DTSTART;TZID=Europe/Paris:20250117T080000
DTEND;TZID=Europe/Paris:20250117T233000
DTSTAMP:20260420T062613
CREATED:20250113T082049Z
LAST-MODIFIED:20250113T082051Z
UID:8938-1737100800-1737156600@hortadesantjoan.cat
SUMMARY:SANT ANTONI 2025
DESCRIPTION:
URL:https://hortadesantjoan.cat/event/sant-antoni-2025/
END:VEVENT
BEGIN:VEVENT
DTSTART;TZID=Europe/Paris:20250119T180000
DTEND;TZID=Europe/Paris:20250119T203000
DTSTAMP:20260420T062613
CREATED:20250113T091614Z
LAST-MODIFIED:20250113T091616Z
UID:8940-1737309600-1737318600@hortadesantjoan.cat
SUMMARY:CUANDO CAE EL OTOÑO
DESCRIPTION:
URL:https://hortadesantjoan.cat/event/cuando-cae-el-otono/
ATTACH;FMTTYPE=image/webp:https://hortadesantjoan.cat/wp-content/uploads/2025/01/CUANDO-CAE-EL-OTONO.webp
END:VEVENT
BEGIN:VEVENT
DTSTART;TZID=Europe/Paris:20250124T080000
DTEND;TZID=Europe/Paris:20250126T210000
DTSTAMP:20260420T062613
CREATED:20250124T073120Z
LAST-MODIFIED:20250124T073123Z
UID:8948-1737705600-1737925200@hortadesantjoan.cat
SUMMARY:CINEMA MUNICIPAL DIA 26 DE GENER DE 2025
DESCRIPTION:
URL:https://hortadesantjoan.cat/event/cinema-municipal-dia-26-de-gener-de-2025/
ATTACH;FMTTYPE=image/jpeg:https://hortadesantjoan.cat/wp-content/uploads/2025/01/download.jpg
END:VEVENT
BEGIN:VEVENT
DTSTART;TZID=Europe/Paris:20250202T080000
DTEND;TZID=Europe/Paris:20250202T200000
DTSTAMP:20260420T062613
CREATED:20250130T131703Z
LAST-MODIFIED:20250130T131705Z
UID:8981-1738483200-1738526400@hortadesantjoan.cat
SUMMARY:CINEMA MUNICIPAL DIUMENGE DIA 2 DE FEBRER DE 2025
DESCRIPTION:
URL:https://hortadesantjoan.cat/event/cinema-municipal-diumenge-dia-2-de-febrer-de-2025/
ATTACH;FMTTYPE=image/jpeg:https://hortadesantjoan.cat/wp-content/uploads/2025/01/foto-gladiator-II.jpg
END:VEVENT
BEGIN:VEVENT
DTSTART;TZID=Europe/Paris:20250208T080000
DTEND;TZID=Europe/Paris:20250221T203000
DTSTAMP:20260420T062613
CREATED:20250131T073249Z
LAST-MODIFIED:20250131T073251Z
UID:9003-1739001600-1740169800@hortadesantjoan.cat
SUMMARY:AGENDA BIBLIOTECA MUNICIPAL FEBRER 2025
DESCRIPTION:
URL:https://hortadesantjoan.cat/event/agenda-biblioteca-municipal-febrer-2025/
ATTACH;FMTTYPE=image/jpeg:https://hortadesantjoan.cat/wp-content/uploads/2025/01/Biblioteca-Municipal.jpg
END:VEVENT
BEGIN:VEVENT
DTSTART;TZID=Europe/Paris:20250208T110000
DTEND;TZID=Europe/Paris:20250208T130000
DTSTAMP:20260420T062613
CREATED:20250207T121422Z
LAST-MODIFIED:20250207T121424Z
UID:9005-1739012400-1739019600@hortadesantjoan.cat
SUMMARY:CONTA CONTES I TALLER D'ESPELMES A LA BIBLIOTECA
DESCRIPTION:
URL:https://hortadesantjoan.cat/event/conta-contes-i-taller-despelmes-a-la-biblioteca/
ATTACH;FMTTYPE=image/jpeg:https://hortadesantjoan.cat/wp-content/uploads/2025/02/IMG-20250205-WA0000.jpg
END:VEVENT
BEGIN:VEVENT
DTSTART;TZID=Europe/Paris:20250208T180000
DTEND;TZID=Europe/Paris:20250208T200000
DTSTAMP:20260420T062613
CREATED:20250207T121607Z
LAST-MODIFIED:20250207T121647Z
UID:9009-1739037600-1739044800@hortadesantjoan.cat
SUMMARY:PRESENTACIÓ DE LLIBRE A LA BIBLIOTECA
DESCRIPTION:
URL:https://hortadesantjoan.cat/event/presentacio-de-llibre-a-la-biblioteca/
ATTACH;FMTTYPE=image/jpeg:https://hortadesantjoan.cat/wp-content/uploads/2025/02/IMG-20250205-WA0001.jpg
END:VEVENT
BEGIN:VEVENT
DTSTART;TZID=Europe/Paris:20250209T080000
DTEND;TZID=Europe/Paris:20250209T210000
DTSTAMP:20260420T062613
CREATED:20250130T132105Z
LAST-MODIFIED:20250130T132251Z
UID:8985-1739088000-1739134800@hortadesantjoan.cat
SUMMARY:CINEMA MUNICIPAL 9 DE FEBRER DE 2025
DESCRIPTION:
URL:https://hortadesantjoan.cat/event/cinema-municipal-9-de-febrer-de-2024/
ATTACH;FMTTYPE=image/jpeg:https://hortadesantjoan.cat/wp-content/uploads/2025/01/20250128_Uns-altres_foto-queer.jpg
END:VEVENT
BEGIN:VEVENT
DTSTART;TZID=Europe/Paris:20250215T080000
DTEND;TZID=Europe/Paris:20250216T170000
DTSTAMP:20260420T062613
CREATED:20250213T164949Z
LAST-MODIFIED:20250213T164951Z
UID:9020-1739606400-1739725200@hortadesantjoan.cat
SUMMARY:BANC DE LLAVORS I L'AGLÀ D'ORTA
DESCRIPTION:
URL:https://hortadesantjoan.cat/event/banc-de-llavors-i-lagla-dorta/
ATTACH;FMTTYPE=image/jpeg:https://hortadesantjoan.cat/wp-content/uploads/2025/02/Cartell-lAGLA-dORTA.jpeg
END:VEVENT
BEGIN:VEVENT
DTSTART;TZID=Europe/Paris:20250216T080000
DTEND;TZID=Europe/Paris:20250216T210000
DTSTAMP:20260420T062613
CREATED:20250130T132221Z
LAST-MODIFIED:20250130T132223Z
UID:8989-1739692800-1739739600@hortadesantjoan.cat
SUMMARY:CINEMA MUNICIPAL DIA 16 DE FEBRER DE 2025
DESCRIPTION:
URL:https://hortadesantjoan.cat/event/cinema-municipal-dia-16-de-febrer-de-2025/
ATTACH;FMTTYPE=image/jpeg:https://hortadesantjoan.cat/wp-content/uploads/2025/01/20250128_Uns-altres_foto-moana-2.jpg
END:VEVENT
BEGIN:VEVENT
DTSTART;TZID=Europe/Paris:20250222T160000
DTEND;TZID=Europe/Paris:20250222T233000
DTSTAMP:20260420T062613
CREATED:20250221T135313Z
LAST-MODIFIED:20250221T135315Z
UID:9023-1740240000-1740267000@hortadesantjoan.cat
SUMMARY:Carnestoltes 2025
DESCRIPTION:
URL:https://hortadesantjoan.cat/event/carnestoltes-2025/
ATTACH;FMTTYPE=image/jpeg:https://hortadesantjoan.cat/wp-content/uploads/2025/02/Cartell-Carnaval-2025.jpeg
END:VEVENT
BEGIN:VEVENT
DTSTART;TZID=Europe/Paris:20250223T080000
DTEND;TZID=Europe/Paris:20250223T210000
DTSTAMP:20260420T062613
CREATED:20250130T132908Z
LAST-MODIFIED:20250130T132910Z
UID:8994-1740297600-1740344400@hortadesantjoan.cat
SUMMARY:CINEMA MUNICIPAL DIA 23 DE FEBRER DE 2025
DESCRIPTION:
URL:https://hortadesantjoan.cat/event/cinema-municipal-dia-23-de-febrer-de-2025/
ATTACH;FMTTYPE=image/jpeg:https://hortadesantjoan.cat/wp-content/uploads/2025/01/20250128_Uns-altres_foto-september-5.jpg
END:VEVENT
BEGIN:VEVENT
DTSTART;TZID=Europe/Paris:20250302T180000
DTEND;TZID=Europe/Paris:20250302T210000
DTSTAMP:20260420T062613
CREATED:20250228T090722Z
LAST-MODIFIED:20250228T090946Z
UID:9035-1740938400-1740949200@hortadesantjoan.cat
SUMMARY:CINEMA MUNICIPAL DIA 2 DE MARÇ
DESCRIPTION:
URL:https://hortadesantjoan.cat/event/cinema-municipal-dia-2-de-marc/
ATTACH;FMTTYPE=image/jpeg:https://hortadesantjoan.cat/wp-content/uploads/2025/02/MUFASA.jpg
END:VEVENT
BEGIN:VEVENT
DTSTART;TZID=Europe/Paris:20250309T180000
DTEND;TZID=Europe/Paris:20250309T210000
DTSTAMP:20260420T062613
CREATED:20250228T090916Z
LAST-MODIFIED:20250228T091015Z
UID:9039-1741543200-1741554000@hortadesantjoan.cat
SUMMARY:CINEMA DIA 9 DE MARÇ DE 2025
DESCRIPTION:
URL:https://hortadesantjoan.cat/event/cinema-dia-9-de-marc-de-2025/
ATTACH;FMTTYPE=image/jpeg:https://hortadesantjoan.cat/wp-content/uploads/2025/02/MIKAELA.jpg
END:VEVENT
BEGIN:VEVENT
DTSTART;TZID=Europe/Paris:20250315T080000
DTEND;TZID=Europe/Paris:20250318T210000
DTSTAMP:20260420T062613
CREATED:20250312T084721Z
LAST-MODIFIED:20250312T084723Z
UID:9069-1742025600-1742331600@hortadesantjoan.cat
SUMMARY:SANT SALVADOR 2025
DESCRIPTION:
URL:https://hortadesantjoan.cat/event/sant-salvador-2025/
ATTACH;FMTTYPE=image/jpeg:https://hortadesantjoan.cat/wp-content/uploads/2025/03/Cartell-Festa-Sant-Salvador-2025.jpeg
END:VEVENT
BEGIN:VEVENT
DTSTART;TZID=Europe/Paris:20250316T170000
DTEND;TZID=Europe/Paris:20250316T200000
DTSTAMP:20260420T062613
CREATED:20250228T091508Z
LAST-MODIFIED:20250228T091510Z
UID:9047-1742144400-1742155200@hortadesantjoan.cat
SUMMARY:CONCERT DE GOSPEL A L'ESGLÉSIA
DESCRIPTION:
URL:https://hortadesantjoan.cat/event/concert-de-gospel-a-lesglesia/
ATTACH;FMTTYPE=image/jpeg:https://hortadesantjoan.cat/wp-content/uploads/2025/02/concert-gospel.jpg
END:VEVENT
BEGIN:VEVENT
DTSTART;TZID=Europe/Paris:20250323T180000
DTEND;TZID=Europe/Paris:20250323T210000
DTSTAMP:20260420T062613
CREATED:20250228T091253Z
LAST-MODIFIED:20250228T091255Z
UID:9043-1742752800-1742763600@hortadesantjoan.cat
SUMMARY:CINEMA MUNICIPAL 23 DE MARÇ DE 2025
DESCRIPTION:
URL:https://hortadesantjoan.cat/event/cinema-municipal-23-de-marc-de-2025/
ATTACH;FMTTYPE=image/jpeg:https://hortadesantjoan.cat/wp-content/uploads/2025/02/el_secreto_del_orfebre-733586892-mmed.jpg
END:VEVENT
BEGIN:VEVENT
DTSTART;TZID=Europe/Paris:20250329T080000
DTEND;TZID=Europe/Paris:20250420T210000
DTSTAMP:20260420T062613
CREATED:20250326T073645Z
LAST-MODIFIED:20250326T073648Z
UID:9088-1743235200-1745182800@hortadesantjoan.cat
SUMMARY:JORNADES PICASSIANES - ORTA TERRA DE LLUM
DESCRIPTION:
URL:https://hortadesantjoan.cat/event/jornades-picassianes-orta-terra-de-llum/
ATTACH;FMTTYPE=image/jpeg:https://hortadesantjoan.cat/wp-content/uploads/2025/03/Orta-Terra-de-Llum.jpg
END:VEVENT
BEGIN:VEVENT
DTSTART;TZID=Europe/Paris:20250330T180000
DTEND;TZID=Europe/Paris:20250330T210000
DTSTAMP:20260420T062613
CREATED:20250228T091841Z
LAST-MODIFIED:20250228T091843Z
UID:9051-1743357600-1743368400@hortadesantjoan.cat
SUMMARY:CINEMA MUNICIPAL DIA 30 DE MARÇ DE 2025
DESCRIPTION:
URL:https://hortadesantjoan.cat/event/cinema-municipal-dia-30-de-marc-de-2025/
ATTACH;FMTTYPE=image/jpeg:https://hortadesantjoan.cat/wp-content/uploads/2025/02/FUER-DE-LA-LEY.jpg
END:VEVENT
BEGIN:VEVENT
DTSTART;TZID=Europe/Paris:20250404T200000
DTEND;TZID=Europe/Paris:20250404T220000
DTSTAMP:20260420T062613
CREATED:20250401T081928Z
LAST-MODIFIED:20250401T081930Z
UID:9111-1743796800-1743804000@hortadesantjoan.cat
SUMMARY:POESIA I DANSA TEATRE BIOLENTES
DESCRIPTION:
URL:https://hortadesantjoan.cat/event/poesia-i-dansa-teatre-biolentes/
ATTACH;FMTTYPE=image/jpeg:https://hortadesantjoan.cat/wp-content/uploads/2025/04/poesia-i-dansa-teatre-Biolentes-1.jpg
END:VEVENT
BEGIN:VEVENT
DTSTART;TZID=Europe/Paris:20250405T000000
DTEND;TZID=Europe/Paris:20250405T000100
DTSTAMP:20260420T062613
CREATED:20250326T073939Z
LAST-MODIFIED:20250326T073941Z
UID:9090-1743811200-1743811260@hortadesantjoan.cat
SUMMARY:VISITA TEATRALITZADA PELS ESPAIS PICASSIANS DEL POBLE
DESCRIPTION:
URL:https://hortadesantjoan.cat/event/visita-teatralitzada-pels-espais-picassians-del-poble/
ATTACH;FMTTYPE=image/jpeg:https://hortadesantjoan.cat/wp-content/uploads/2025/03/VISITA-TEATRALITZADA-PELS-ESPAIS-PICASSIANS-DEL-POBLE.jpg
END:VEVENT
BEGIN:VEVENT
DTSTART;TZID=Europe/Paris:20250405T123000
DTEND;TZID=Europe/Paris:20250405T130000
DTSTAMP:20260420T062613
CREATED:20250404T094018Z
LAST-MODIFIED:20250404T094020Z
UID:9156-1743856200-1743858000@hortadesantjoan.cat
SUMMARY:INAUGURACIÓ DE L'EXPOSICIÓ "ELS BLAUS DEL GENI"
DESCRIPTION:
URL:https://hortadesantjoan.cat/event/inauguracio-de-lexposicio-els-blaus-del-geni/
ATTACH;FMTTYPE=image/jpeg:https://hortadesantjoan.cat/wp-content/uploads/2025/04/EXPOSICIO-ELS-BLAUS-DEL-GENI.jpg
END:VEVENT
BEGIN:VEVENT
DTSTART;TZID=Europe/Paris:20250405T123000
DTEND;TZID=Europe/Paris:20250405T133000
DTSTAMP:20260420T062613
CREATED:20250404T093441Z
LAST-MODIFIED:20250404T093443Z
UID:9149-1743856200-1743859800@hortadesantjoan.cat
SUMMARY:COS A COS - DANSA PERFORMANCE
DESCRIPTION:
URL:https://hortadesantjoan.cat/event/cos-a-cos-dansa-performance/
ATTACH;FMTTYPE=image/jpeg:https://hortadesantjoan.cat/wp-content/uploads/2025/04/COS-A-COS.jpg
END:VEVENT
BEGIN:VEVENT
DTSTART;TZID=Europe/Paris:20250406T080000
DTEND;TZID=Europe/Paris:20250406T200000
DTSTAMP:20260420T062613
CREATED:20250404T092903Z
LAST-MODIFIED:20250404T092905Z
UID:9147-1743926400-1743969600@hortadesantjoan.cat
SUMMARY:CURSA DE LES ROQUES
DESCRIPTION:
URL:https://hortadesantjoan.cat/event/cursa-de-les-roques/
ATTACH;FMTTYPE=image/jpeg:https://hortadesantjoan.cat/wp-content/uploads/2025/04/CURSA-DE-LES-ROQUES.jpg
END:VEVENT
END:VCALENDAR