BEGIN:VCALENDAR
VERSION:2.0
PRODID:-//Ajuntament Horta de Sant Joan - ECPv6.11.2.1//NONSGML v1.0//EN
CALSCALE:GREGORIAN
METHOD:PUBLISH
X-ORIGINAL-URL:https://hortadesantjoan.cat
X-WR-CALDESC:Esdeveniments per Ajuntament Horta de Sant Joan
REFRESH-INTERVAL;VALUE=DURATION:PT1H
X-Robots-Tag:noindex
X-PUBLISHED-TTL:PT1H
BEGIN:VTIMEZONE
TZID:Europe/Paris
BEGIN:DAYLIGHT
TZOFFSETFROM:+0100
TZOFFSETTO:+0200
TZNAME:CEST
DTSTART:20250330T010000
END:DAYLIGHT
BEGIN:STANDARD
TZOFFSETFROM:+0200
TZOFFSETTO:+0100
TZNAME:CET
DTSTART:20251026T010000
END:STANDARD
END:VTIMEZONE
BEGIN:VEVENT
DTSTART;TZID=Europe/Paris:20250315T080000
DTEND;TZID=Europe/Paris:20250318T210000
DTSTAMP:20260420T062857
CREATED:20250312T084721Z
LAST-MODIFIED:20250312T084723Z
UID:9069-1742025600-1742331600@hortadesantjoan.cat
SUMMARY:SANT SALVADOR 2025
DESCRIPTION:
URL:https://hortadesantjoan.cat/event/sant-salvador-2025/
ATTACH;FMTTYPE=image/jpeg:https://hortadesantjoan.cat/wp-content/uploads/2025/03/Cartell-Festa-Sant-Salvador-2025.jpeg
END:VEVENT
BEGIN:VEVENT
DTSTART;TZID=Europe/Paris:20250316T170000
DTEND;TZID=Europe/Paris:20250316T200000
DTSTAMP:20260420T062858
CREATED:20250228T091508Z
LAST-MODIFIED:20250228T091510Z
UID:9047-1742144400-1742155200@hortadesantjoan.cat
SUMMARY:CONCERT DE GOSPEL A L'ESGLÉSIA
DESCRIPTION:
URL:https://hortadesantjoan.cat/event/concert-de-gospel-a-lesglesia/
ATTACH;FMTTYPE=image/jpeg:https://hortadesantjoan.cat/wp-content/uploads/2025/02/concert-gospel.jpg
END:VEVENT
BEGIN:VEVENT
DTSTART;TZID=Europe/Paris:20250323T180000
DTEND;TZID=Europe/Paris:20250323T210000
DTSTAMP:20260420T062858
CREATED:20250228T091253Z
LAST-MODIFIED:20250228T091255Z
UID:9043-1742752800-1742763600@hortadesantjoan.cat
SUMMARY:CINEMA MUNICIPAL 23 DE MARÇ DE 2025
DESCRIPTION:
URL:https://hortadesantjoan.cat/event/cinema-municipal-23-de-marc-de-2025/
ATTACH;FMTTYPE=image/jpeg:https://hortadesantjoan.cat/wp-content/uploads/2025/02/el_secreto_del_orfebre-733586892-mmed.jpg
END:VEVENT
BEGIN:VEVENT
DTSTART;TZID=Europe/Paris:20250329T080000
DTEND;TZID=Europe/Paris:20250420T210000
DTSTAMP:20260420T062858
CREATED:20250326T073645Z
LAST-MODIFIED:20250326T073648Z
UID:9088-1743235200-1745182800@hortadesantjoan.cat
SUMMARY:JORNADES PICASSIANES - ORTA TERRA DE LLUM
DESCRIPTION:
URL:https://hortadesantjoan.cat/event/jornades-picassianes-orta-terra-de-llum/
ATTACH;FMTTYPE=image/jpeg:https://hortadesantjoan.cat/wp-content/uploads/2025/03/Orta-Terra-de-Llum.jpg
END:VEVENT
BEGIN:VEVENT
DTSTART;TZID=Europe/Paris:20250330T180000
DTEND;TZID=Europe/Paris:20250330T210000
DTSTAMP:20260420T062858
CREATED:20250228T091841Z
LAST-MODIFIED:20250228T091843Z
UID:9051-1743357600-1743368400@hortadesantjoan.cat
SUMMARY:CINEMA MUNICIPAL DIA 30 DE MARÇ DE 2025
DESCRIPTION:
URL:https://hortadesantjoan.cat/event/cinema-municipal-dia-30-de-marc-de-2025/
ATTACH;FMTTYPE=image/jpeg:https://hortadesantjoan.cat/wp-content/uploads/2025/02/FUER-DE-LA-LEY.jpg
END:VEVENT
BEGIN:VEVENT
DTSTART;TZID=Europe/Paris:20250404T200000
DTEND;TZID=Europe/Paris:20250404T220000
DTSTAMP:20260420T062858
CREATED:20250401T081928Z
LAST-MODIFIED:20250401T081930Z
UID:9111-1743796800-1743804000@hortadesantjoan.cat
SUMMARY:POESIA I DANSA TEATRE BIOLENTES
DESCRIPTION:
URL:https://hortadesantjoan.cat/event/poesia-i-dansa-teatre-biolentes/
ATTACH;FMTTYPE=image/jpeg:https://hortadesantjoan.cat/wp-content/uploads/2025/04/poesia-i-dansa-teatre-Biolentes-1.jpg
END:VEVENT
BEGIN:VEVENT
DTSTART;TZID=Europe/Paris:20250405T000000
DTEND;TZID=Europe/Paris:20250405T000100
DTSTAMP:20260420T062858
CREATED:20250326T073939Z
LAST-MODIFIED:20250326T073941Z
UID:9090-1743811200-1743811260@hortadesantjoan.cat
SUMMARY:VISITA TEATRALITZADA PELS ESPAIS PICASSIANS DEL POBLE
DESCRIPTION:
URL:https://hortadesantjoan.cat/event/visita-teatralitzada-pels-espais-picassians-del-poble/
ATTACH;FMTTYPE=image/jpeg:https://hortadesantjoan.cat/wp-content/uploads/2025/03/VISITA-TEATRALITZADA-PELS-ESPAIS-PICASSIANS-DEL-POBLE.jpg
END:VEVENT
BEGIN:VEVENT
DTSTART;TZID=Europe/Paris:20250405T123000
DTEND;TZID=Europe/Paris:20250405T130000
DTSTAMP:20260420T062858
CREATED:20250404T094018Z
LAST-MODIFIED:20250404T094020Z
UID:9156-1743856200-1743858000@hortadesantjoan.cat
SUMMARY:INAUGURACIÓ DE L'EXPOSICIÓ "ELS BLAUS DEL GENI"
DESCRIPTION:
URL:https://hortadesantjoan.cat/event/inauguracio-de-lexposicio-els-blaus-del-geni/
ATTACH;FMTTYPE=image/jpeg:https://hortadesantjoan.cat/wp-content/uploads/2025/04/EXPOSICIO-ELS-BLAUS-DEL-GENI.jpg
END:VEVENT
BEGIN:VEVENT
DTSTART;TZID=Europe/Paris:20250405T123000
DTEND;TZID=Europe/Paris:20250405T133000
DTSTAMP:20260420T062858
CREATED:20250404T093441Z
LAST-MODIFIED:20250404T093443Z
UID:9149-1743856200-1743859800@hortadesantjoan.cat
SUMMARY:COS A COS - DANSA PERFORMANCE
DESCRIPTION:
URL:https://hortadesantjoan.cat/event/cos-a-cos-dansa-performance/
ATTACH;FMTTYPE=image/jpeg:https://hortadesantjoan.cat/wp-content/uploads/2025/04/COS-A-COS.jpg
END:VEVENT
BEGIN:VEVENT
DTSTART;TZID=Europe/Paris:20250406T080000
DTEND;TZID=Europe/Paris:20250406T200000
DTSTAMP:20260420T062858
CREATED:20250404T092903Z
LAST-MODIFIED:20250404T092905Z
UID:9147-1743926400-1743969600@hortadesantjoan.cat
SUMMARY:CURSA DE LES ROQUES
DESCRIPTION:
URL:https://hortadesantjoan.cat/event/cursa-de-les-roques/
ATTACH;FMTTYPE=image/jpeg:https://hortadesantjoan.cat/wp-content/uploads/2025/04/CURSA-DE-LES-ROQUES.jpg
END:VEVENT
BEGIN:VEVENT
DTSTART;TZID=Europe/Paris:20250406T180000
DTEND;TZID=Europe/Paris:20250406T200000
DTSTAMP:20260420T062858
CREATED:20250404T091830Z
LAST-MODIFIED:20250404T091832Z
UID:9131-1743962400-1743969600@hortadesantjoan.cat
SUMMARY:CINEMA MUNICIPAL DIA 6 D'ABRIL DE 2025
DESCRIPTION:
URL:https://hortadesantjoan.cat/event/cinema-municipal-dia-6-dabril-de-2025/
ATTACH;FMTTYPE=image/jpeg:https://hortadesantjoan.cat/wp-content/uploads/2025/04/20250326_Uns-altres_foto-el-dia-que-la-tierra-exploto.jpg
END:VEVENT
BEGIN:VEVENT
DTSTART;TZID=Europe/Paris:20250411T170000
DTEND;TZID=Europe/Paris:20250411T170000
DTSTAMP:20260420T062858
CREATED:20250407T063934Z
LAST-MODIFIED:20250407T063936Z
UID:9192-1744390800-1744390800@hortadesantjoan.cat
SUMMARY:VISITA D'ALBERT ASENSIO - TALLER D'IL·LUSTRACIÓ PER ADULTS
DESCRIPTION:
URL:https://hortadesantjoan.cat/event/visita-dalbert-asensio-taller-dil%c2%b7lustracio-per-adults/
ATTACH;FMTTYPE=image/jpeg:https://hortadesantjoan.cat/wp-content/uploads/2025/04/taller-dillustracio-Albert-Asensio.jpg
END:VEVENT
BEGIN:VEVENT
DTSTART;TZID=Europe/Paris:20250412T110000
DTEND;TZID=Europe/Paris:20250412T110000
DTSTAMP:20260420T062858
CREATED:20250407T063710Z
LAST-MODIFIED:20250407T070436Z
UID:9190-1744455600-1744455600@hortadesantjoan.cat
SUMMARY:PICASSO\, LA MIRADA
DESCRIPTION:
URL:https://hortadesantjoan.cat/event/picasso-la-mirada/
ATTACH;FMTTYPE=image/jpeg:https://hortadesantjoan.cat/wp-content/uploads/2025/04/Picasso-La-mirada.jpg
END:VEVENT
BEGIN:VEVENT
DTSTART;TZID=Europe/Paris:20250412T170000
DTEND;TZID=Europe/Paris:20250419T170000
DTSTAMP:20260420T062858
CREATED:20250407T064344Z
LAST-MODIFIED:20250407T064346Z
UID:9196-1744477200-1745082000@hortadesantjoan.cat
SUMMARY:VISITES GUIADES
DESCRIPTION:
URL:https://hortadesantjoan.cat/event/visites-guiades/
ATTACH;FMTTYPE=image/png:https://hortadesantjoan.cat/wp-content/uploads/2025/04/Visites-guiades-Jornades.png
END:VEVENT
BEGIN:VEVENT
DTSTART;TZID=Europe/Paris:20250412T200000
DTEND;TZID=Europe/Paris:20250412T220000
DTSTAMP:20260420T062858
CREATED:20250407T063133Z
LAST-MODIFIED:20250407T063135Z
UID:9187-1744488000-1744495200@hortadesantjoan.cat
SUMMARY:JAZZ AL CONVENT
DESCRIPTION:
URL:https://hortadesantjoan.cat/event/jazz-al-convent/
ATTACH;FMTTYPE=image/png:https://hortadesantjoan.cat/wp-content/uploads/2025/04/Jazz-al-convent.png
END:VEVENT
BEGIN:VEVENT
DTSTART;TZID=Europe/Paris:20250413T000000
DTEND;TZID=Europe/Paris:20250413T000000
DTSTAMP:20260420T062858
CREATED:20250407T064114Z
LAST-MODIFIED:20250407T064153Z
UID:9194-1744502400-1744502400@hortadesantjoan.cat
SUMMARY:TREMENTINA
DESCRIPTION:
URL:https://hortadesantjoan.cat/event/trementina/
ATTACH;FMTTYPE=image/png:https://hortadesantjoan.cat/wp-content/uploads/2025/04/Trementina.png
END:VEVENT
BEGIN:VEVENT
DTSTART;TZID=Europe/Paris:20250413T000000
DTEND;TZID=Europe/Paris:20250413T000100
DTSTAMP:20260420T062858
CREATED:20250407T062843Z
LAST-MODIFIED:20250407T063222Z
UID:9185-1744502400-1744502460@hortadesantjoan.cat
SUMMARY:EXPERIÈNCIA SENSORIAL\, TAST I CLOTXA
DESCRIPTION:
URL:https://hortadesantjoan.cat/event/experiencia-sensorial-tast-i-clotxa/
ATTACH;FMTTYPE=image/png:https://hortadesantjoan.cat/wp-content/uploads/2025/04/Experiencia-sensorial-Tast-i-Clotxa.png
END:VEVENT
BEGIN:VEVENT
DTSTART;TZID=Europe/Paris:20250413T180000
DTEND;TZID=Europe/Paris:20250413T200000
DTSTAMP:20260420T062858
CREATED:20250404T092202Z
LAST-MODIFIED:20250404T092204Z
UID:9135-1744567200-1744574400@hortadesantjoan.cat
SUMMARY:CINEMA MUNICIPAL 13 D'ABRIL DE 2025
DESCRIPTION:
URL:https://hortadesantjoan.cat/event/cinema-municipal-13-dabril-de-2025/
ATTACH;FMTTYPE=image/jpeg:https://hortadesantjoan.cat/wp-content/uploads/2025/04/20250404_Uns-altres_foto-los-aitas.jpg
END:VEVENT
BEGIN:VEVENT
DTSTART;TZID=Europe/Paris:20250418T110000
DTEND;TZID=Europe/Paris:20250420T120000
DTSTAMP:20260420T062858
CREATED:20250416T111825Z
LAST-MODIFIED:20250416T111827Z
UID:9226-1744974000-1745150400@hortadesantjoan.cat
SUMMARY:CONVENT DE SANT SALVADOR
DESCRIPTION:
URL:https://hortadesantjoan.cat/event/convent-de-sant-salvador/
ATTACH;FMTTYPE=image/jpeg:https://hortadesantjoan.cat/wp-content/uploads/2025/04/convent-de-sant-salvador.jpg
END:VEVENT
BEGIN:VEVENT
DTSTART;TZID=Europe/Paris:20250420T110000
DTEND;TZID=Europe/Paris:20250420T170000
DTSTAMP:20260420T062858
CREATED:20250416T111637Z
LAST-MODIFIED:20250416T111639Z
UID:9224-1745146800-1745168400@hortadesantjoan.cat
SUMMARY:VISITES TEATRALITZADES
DESCRIPTION:
URL:https://hortadesantjoan.cat/event/visites-teatralitzades/
ATTACH;FMTTYPE=image/jpeg:https://hortadesantjoan.cat/wp-content/uploads/2025/04/visita-teatralitzada.jpg
END:VEVENT
BEGIN:VEVENT
DTSTART;TZID=Europe/Paris:20250420T180000
DTEND;TZID=Europe/Paris:20250420T200000
DTSTAMP:20260420T062858
CREATED:20250404T092348Z
LAST-MODIFIED:20250404T092350Z
UID:9139-1745172000-1745179200@hortadesantjoan.cat
SUMMARY:CINEMA MUNICIPAL DIA 20 D'ABRIL DE 2025
DESCRIPTION:
URL:https://hortadesantjoan.cat/event/cinema-municipal-dia-20-dabril-de-2025/
ATTACH;FMTTYPE=image/jpeg:https://hortadesantjoan.cat/wp-content/uploads/2025/04/20250326_Uns-altres_foto-a-complete-unknown.jpg
END:VEVENT
BEGIN:VEVENT
DTSTART;TZID=Europe/Paris:20250425T173000
DTEND;TZID=Europe/Paris:20250726T200000
DTSTAMP:20260420T062858
CREATED:20250312T085836Z
LAST-MODIFIED:20250520T090819Z
UID:9073-1745602200-1753560000@hortadesantjoan.cat
SUMMARY:CICLE DE TEATRE FAMILIAR
DESCRIPTION:
URL:https://hortadesantjoan.cat/event/cicle-de-teatre-familiar-3/
ATTACH;FMTTYPE=image/jpeg:https://hortadesantjoan.cat/wp-content/uploads/2025/03/CICLE-DE-TEATRE-FAMILIAR-1.jpg
END:VEVENT
BEGIN:VEVENT
DTSTART;TZID=Europe/Paris:20250427T080000
DTEND;TZID=Europe/Paris:20250909T170000
DTSTAMP:20260420T062858
CREATED:20250520T090107Z
LAST-MODIFIED:20250520T090109Z
UID:9284-1745740800-1757437200@hortadesantjoan.cat
SUMMARY:CICLE DE CIRC A HORTA DE SANT JOAN
DESCRIPTION:
URL:https://hortadesantjoan.cat/event/cicle-de-circ-a-horta-de-sant-joan/
ATTACH;FMTTYPE=image/jpeg:https://hortadesantjoan.cat/wp-content/uploads/2025/05/cicle-de-circ-a-horta-1.jpg
END:VEVENT
BEGIN:VEVENT
DTSTART;TZID=Europe/Paris:20250427T090000
DTEND;TZID=Europe/Paris:20250427T190000
DTSTAMP:20260420T062858
CREATED:20250401T082146Z
LAST-MODIFIED:20250401T082148Z
UID:9115-1745744400-1745780400@hortadesantjoan.cat
SUMMARY:XXXVII CONCURS DE PINTURA RÀPIDA
DESCRIPTION:
URL:https://hortadesantjoan.cat/event/xxxvii-concurs-de-pintura-rapida/
ATTACH;FMTTYPE=image/jpeg:https://hortadesantjoan.cat/wp-content/uploads/2025/04/Diptic-concurs-1.jpg
END:VEVENT
BEGIN:VEVENT
DTSTART;TZID=Europe/Paris:20250503T003000
DTEND;TZID=Europe/Paris:20250503T140000
DTSTAMP:20260420T062858
CREATED:20250429T070459Z
LAST-MODIFIED:20250429T070501Z
UID:9241-1746232200-1746280800@hortadesantjoan.cat
SUMMARY:DIA INTERNACIONAL DE LA DANSA
DESCRIPTION:
URL:https://hortadesantjoan.cat/event/dia-internacional-de-la-dansa/
ATTACH;FMTTYPE=image/jpeg:https://hortadesantjoan.cat/wp-content/uploads/2025/04/dansa.jpg
END:VEVENT
BEGIN:VEVENT
DTSTART;TZID=Europe/Paris:20250504T000000
DTEND;TZID=Europe/Paris:20250504T140000
DTSTAMP:20260420T062858
CREATED:20250429T104944Z
LAST-MODIFIED:20250429T105016Z
UID:9247-1746316800-1746367200@hortadesantjoan.cat
SUMMARY:ESPECTACLE DE CLOWN - VERMUT -TEATRE
DESCRIPTION:
URL:https://hortadesantjoan.cat/event/9247/
ATTACH;FMTTYPE=image/jpeg:https://hortadesantjoan.cat/wp-content/uploads/2025/04/Cartell_OBRA_YAPASO_maig2025.jpeg
END:VEVENT
BEGIN:VEVENT
DTSTART;TZID=Europe/Paris:20250504T180000
DTEND;TZID=Europe/Paris:20250504T200000
DTSTAMP:20260420T062858
CREATED:20250502T105212Z
LAST-MODIFIED:20250502T105214Z
UID:9251-1746381600-1746388800@hortadesantjoan.cat
SUMMARY:CINEMA MUNICIPAL DIA 4 DE MAIG DE 2025
DESCRIPTION:
URL:https://hortadesantjoan.cat/event/cinema-municipal-dia-4-de-maig-de-2025/
ATTACH;FMTTYPE=image/jpeg:https://hortadesantjoan.cat/wp-content/uploads/2025/05/wolfgang_extraordinario-222066569-large.jpg
END:VEVENT
BEGIN:VEVENT
DTSTART;TZID=Europe/Paris:20250511T093000
DTEND;TZID=Europe/Paris:20250511T133000
DTSTAMP:20260420T062858
CREATED:20250415T055650Z
LAST-MODIFIED:20250415T060133Z
UID:9212-1746955800-1746970200@hortadesantjoan.cat
SUMMARY:ELS PORTS NATURA I ART
DESCRIPTION:“Els Ports Natura i Art” celebra aquest 2025 la seva 10a Edició. \n\n\n\nEns trobarem el diumenge 11 de maig a l’Àrea de La Franqueta (Horta de Sant Joan) amb els artistes: \n\n\n\nCristina Torta Aubeso (Amposta) \n\n\n\nMaite Serna Mata (Reus) \n\n\n\nMarta Baceiredo Talavero (Tarragona) \n\n\n\nPaula Vicente (Barcelona) \n\n\n\nMarc Sellarès (Sant Salvador de Guardiola) \n\n\n\nEls propers dies obrirem les inscripcions. \n\n\n\nComissari: Sergi Quiñonero. \n\n\n\nOrganitza: Lo Pati i l’Associació Cultural EPNiA. \n\n\n\nAmb el suport: Ajuntament d’Amposta\, Ajuntament d’Horta de Sant Joan\, Generalitat de Catalunya-Departament de Cultura\, Diputació de Tarragona\, Òmnium Cultural-Terres Ebre\, Consell Comarcal Terra Alta\, Parc Natural dels Ports\, Ajuntament de Corbera d’Ebre\, Hostal Casa Barceló.
URL:https://hortadesantjoan.cat/event/els-ports-natura-i-art-3/
ATTACH;FMTTYPE=image/jpeg:https://hortadesantjoan.cat/wp-content/uploads/2025/04/1a-Prova_LOPATI-ELS-PORTS-10a-EDICIO-CARTELL-v00.jpg
END:VEVENT
BEGIN:VEVENT
DTSTART;TZID=Europe/Paris:20250525T180000
DTEND;TZID=Europe/Paris:20250525T203000
DTSTAMP:20260420T062858
CREATED:20250520T085545Z
LAST-MODIFIED:20250520T085547Z
UID:9274-1748196000-1748205000@hortadesantjoan.cat
SUMMARY:CINEMA DIA 25 DE MAIG DE 2025
DESCRIPTION:
URL:https://hortadesantjoan.cat/event/cinema-dia-25-de-maig-de-2025/
ATTACH;FMTTYPE=image/jpeg:https://hortadesantjoan.cat/wp-content/uploads/2025/05/images.jpg
END:VEVENT
BEGIN:VEVENT
DTSTART;TZID=Europe/Paris:20250531T170000
DTEND;TZID=Europe/Paris:20250531T190000
DTSTAMP:20260420T062858
CREATED:20250529T072532Z
LAST-MODIFIED:20250529T072534Z
UID:9321-1748710800-1748718000@hortadesantjoan.cat
SUMMARY:PRESENTACIÓ DE LLIBRE - XAVIER NAVARRO
DESCRIPTION:
URL:https://hortadesantjoan.cat/event/presentacio-de-llibre-xavier-navarro/
ATTACH;FMTTYPE=image/jpeg:https://hortadesantjoan.cat/wp-content/uploads/2025/05/IMG-20250529-WA0005.jpg
END:VEVENT
END:VCALENDAR