BEGIN:VCALENDAR
VERSION:2.0
PRODID:-//Ajuntament Horta de Sant Joan - ECPv6.11.2.1//NONSGML v1.0//EN
CALSCALE:GREGORIAN
METHOD:PUBLISH
X-ORIGINAL-URL:https://hortadesantjoan.cat
X-WR-CALDESC:Esdeveniments per Ajuntament Horta de Sant Joan
REFRESH-INTERVAL;VALUE=DURATION:PT1H
X-Robots-Tag:noindex
X-PUBLISHED-TTL:PT1H
BEGIN:VTIMEZONE
TZID:Europe/Paris
BEGIN:DAYLIGHT
TZOFFSETFROM:+0100
TZOFFSETTO:+0200
TZNAME:CEST
DTSTART:20250330T010000
END:DAYLIGHT
BEGIN:STANDARD
TZOFFSETFROM:+0200
TZOFFSETTO:+0100
TZNAME:CET
DTSTART:20251026T010000
END:STANDARD
END:VTIMEZONE
BEGIN:VEVENT
DTSTART;TZID=Europe/Paris:20250425T173000
DTEND;TZID=Europe/Paris:20250726T200000
DTSTAMP:20260420T035322
CREATED:20250312T085836Z
LAST-MODIFIED:20250520T090819Z
UID:9073-1745602200-1753560000@hortadesantjoan.cat
SUMMARY:CICLE DE TEATRE FAMILIAR
DESCRIPTION:
URL:https://hortadesantjoan.cat/event/cicle-de-teatre-familiar-3/
ATTACH;FMTTYPE=image/jpeg:https://hortadesantjoan.cat/wp-content/uploads/2025/03/CICLE-DE-TEATRE-FAMILIAR-1.jpg
END:VEVENT
BEGIN:VEVENT
DTSTART;TZID=Europe/Paris:20250427T080000
DTEND;TZID=Europe/Paris:20250909T170000
DTSTAMP:20260420T035322
CREATED:20250520T090107Z
LAST-MODIFIED:20250520T090109Z
UID:9284-1745740800-1757437200@hortadesantjoan.cat
SUMMARY:CICLE DE CIRC A HORTA DE SANT JOAN
DESCRIPTION:
URL:https://hortadesantjoan.cat/event/cicle-de-circ-a-horta-de-sant-joan/
ATTACH;FMTTYPE=image/jpeg:https://hortadesantjoan.cat/wp-content/uploads/2025/05/cicle-de-circ-a-horta-1.jpg
END:VEVENT
BEGIN:VEVENT
DTSTART;TZID=Europe/Paris:20250628T180000
DTEND;TZID=Europe/Paris:20250628T200000
DTSTAMP:20260420T035322
CREATED:20250625T125018Z
LAST-MODIFIED:20250625T125400Z
UID:9409-1751133600-1751140800@hortadesantjoan.cat
SUMMARY:CONCERT 10è ANIVERSARI BANDA COMARCAL DE LA TERRA ALTA
DESCRIPTION:
URL:https://hortadesantjoan.cat/event/concert-10e-aniversari-banda-comarcal-de-la-terra-alta/
ATTACH;FMTTYPE=image/jpeg:https://hortadesantjoan.cat/wp-content/uploads/2025/06/Concert-10e-aniversari-Banda-Comarcal-de-la-Terra-Alta-Convent-Sant-Salvador.jpeg
END:VEVENT
BEGIN:VEVENT
DTSTART;TZID=Europe/Paris:20250629T180000
DTEND;TZID=Europe/Paris:20250629T203000
DTSTAMP:20260420T035322
CREATED:20250526T123021Z
LAST-MODIFIED:20250526T123023Z
UID:9306-1751220000-1751229000@hortadesantjoan.cat
SUMMARY:CINEMA MUNICIPAL DIA 29 DE JUNY
DESCRIPTION:
URL:https://hortadesantjoan.cat/event/cinema-municipal-dia-29-de-juny/
ATTACH;FMTTYPE=image/jpeg:https://hortadesantjoan.cat/wp-content/uploads/2025/05/LILO-Y-STITCH.jpg
END:VEVENT
BEGIN:VEVENT
DTSTART;TZID=Europe/Paris:20250712T173000
DTEND;TZID=Europe/Paris:20250712T193000
DTSTAMP:20260420T035322
CREATED:20250710T062101Z
LAST-MODIFIED:20250710T062104Z
UID:9456-1752341400-1752348600@hortadesantjoan.cat
SUMMARY:CICLE DE CIRC A HORTA - LA GRAN SONATA
DESCRIPTION:
URL:https://hortadesantjoan.cat/event/cicle-de-circ-a-horta-la-gran-sonata/
ATTACH;FMTTYPE=image/png:https://hortadesantjoan.cat/wp-content/uploads/2025/07/cicle-de-circ-a-Horta.png
END:VEVENT
BEGIN:VEVENT
DTSTART;TZID=Europe/Paris:20250713T110000
DTEND;TZID=Europe/Paris:20250713T130000
DTSTAMP:20260420T035322
CREATED:20250710T062425Z
LAST-MODIFIED:20250710T062427Z
UID:9458-1752404400-1752411600@hortadesantjoan.cat
SUMMARY:MULLA'T PER L'ESCLEROSI MÚLTIPLE
DESCRIPTION:
URL:https://hortadesantjoan.cat/event/mullat-per-lesclerosi-multiple/
ATTACH;FMTTYPE=image/png:https://hortadesantjoan.cat/wp-content/uploads/2025/07/MULLAT.png
END:VEVENT
BEGIN:VEVENT
DTSTART;TZID=Europe/Paris:20250713T190000
DTEND;TZID=Europe/Paris:20250713T210000
DTSTAMP:20260420T035322
CREATED:20250710T062952Z
LAST-MODIFIED:20250710T062954Z
UID:9460-1752433200-1752440400@hortadesantjoan.cat
SUMMARY:CINEMA MUNICIPAL DIA 13 DE JULIOL DE 2025 - KAYARA
DESCRIPTION:
URL:https://hortadesantjoan.cat/event/cinema-municipal-dia-13-de-juliol-de-2025-kayara/
ATTACH;FMTTYPE=image/webp:https://hortadesantjoan.cat/wp-content/uploads/2025/07/KAYARA.webp
END:VEVENT
BEGIN:VEVENT
DTSTART;TZID=Europe/Paris:20250720T190000
DTEND;TZID=Europe/Paris:20250720T193000
DTSTAMP:20260420T035322
CREATED:20250710T063206Z
LAST-MODIFIED:20250710T063208Z
UID:9464-1753038000-1753039800@hortadesantjoan.cat
SUMMARY:CINEMA MUNICIPAL DIA 20 DE JULIOL - JANE AUSTEN ARRUINÓ MI VIDA
DESCRIPTION:
URL:https://hortadesantjoan.cat/event/cinema-municipal-dia-20-de-juliol-jane-austen-arruino-mi-vida/
ATTACH;FMTTYPE=image/webp:https://hortadesantjoan.cat/wp-content/uploads/2025/07/JANE-AUSTEN.webp
END:VEVENT
BEGIN:VEVENT
DTSTART;TZID=Europe/Paris:20250725T220000
DTEND;TZID=Europe/Paris:20250725T233000
DTSTAMP:20260420T035322
CREATED:20250710T061756Z
LAST-MODIFIED:20250710T061758Z
UID:9454-1753480800-1753486200@hortadesantjoan.cat
SUMMARY:OBSERVACIÓ ASTRONÒMICA DEL CEL D'ESTIU DES DEL CONVENT DE SANT SALVADOR
DESCRIPTION:
URL:https://hortadesantjoan.cat/event/observacio-astronomica-del-cel-destiu-des-del-convent-de-sant-salvador/
ATTACH;FMTTYPE=image/png:https://hortadesantjoan.cat/wp-content/uploads/2025/07/Cartell_Observacio_Horta.png
END:VEVENT
BEGIN:VEVENT
DTSTART;TZID=Europe/Paris:20250726T173000
DTEND;TZID=Europe/Paris:20250726T190000
DTSTAMP:20260420T035322
CREATED:20250725T075524Z
LAST-MODIFIED:20250725T075527Z
UID:9495-1753551000-1753556400@hortadesantjoan.cat
SUMMARY:EL CARGOL I L'HERBA DE PONIOL
DESCRIPTION:
URL:https://hortadesantjoan.cat/event/el-cargol-i-lherba-de-poniol/
ATTACH;FMTTYPE=image/jpeg:https://hortadesantjoan.cat/wp-content/uploads/2025/07/el-cargol-i-lherba-de-poniol-1.jpg
END:VEVENT
BEGIN:VEVENT
DTSTART;TZID=Europe/Paris:20250727T110000
DTEND;TZID=Europe/Paris:20250727T123000
DTSTAMP:20260420T035322
CREATED:20250725T093702Z
LAST-MODIFIED:20250725T093750Z
UID:9503-1753614000-1753619400@hortadesantjoan.cat
SUMMARY:DELTACHAMBER MUSIC FESTIVAL
DESCRIPTION:
URL:https://hortadesantjoan.cat/event/deltachamber-music-festival/
ATTACH;FMTTYPE=image/jpeg:https://hortadesantjoan.cat/wp-content/uploads/2025/07/deltachamber.jpg
END:VEVENT
BEGIN:VEVENT
DTSTART;TZID=Europe/Paris:20250727T190000
DTEND;TZID=Europe/Paris:20250727T210000
DTSTAMP:20260420T035322
CREATED:20250710T063339Z
LAST-MODIFIED:20250710T063456Z
UID:9469-1753642800-1753650000@hortadesantjoan.cat
SUMMARY:CINEMA MUNICIPAL DIA 27 DE JULIOL - PADRE NO HAY MAS QUE UNO 5
DESCRIPTION:
URL:https://hortadesantjoan.cat/event/cinema-municipal-dia-27-de-juliol-padre-no-hay-mas-que-uno-5/
ATTACH;FMTTYPE=image/jpeg:https://hortadesantjoan.cat/wp-content/uploads/2025/07/PADRE-NO-HAY-MAS-QUE-UNO-2.jpg
END:VEVENT
BEGIN:VEVENT
DTSTART;TZID=Europe/Paris:20250803T190000
DTEND;TZID=Europe/Paris:20250803T210000
DTSTAMP:20260420T035322
CREATED:20250728T063601Z
LAST-MODIFIED:20250728T063603Z
UID:9513-1754247600-1754254800@hortadesantjoan.cat
SUMMARY:LEER LOLITA EN TEHERÁN
DESCRIPTION:
URL:https://hortadesantjoan.cat/event/leer-lolita-en-teheran/
ATTACH;FMTTYPE=image/jpeg:https://hortadesantjoan.cat/wp-content/uploads/2025/07/foto-leer-lolita-en-teheran.jpg
END:VEVENT
BEGIN:VEVENT
DTSTART;TZID=Europe/Paris:20250810T190000
DTEND;TZID=Europe/Paris:20250810T210000
DTSTAMP:20260420T035322
CREATED:20250728T063725Z
LAST-MODIFIED:20250728T063727Z
UID:9517-1754852400-1754859600@hortadesantjoan.cat
SUMMARY:F1
DESCRIPTION:
URL:https://hortadesantjoan.cat/event/f1/
ATTACH;FMTTYPE=image/jpeg:https://hortadesantjoan.cat/wp-content/uploads/2025/07/foto-F1-the-movie.jpg
END:VEVENT
BEGIN:VEVENT
DTSTART;TZID=Europe/Paris:20250817T083000
DTEND;TZID=Europe/Paris:20250817T210000
DTSTAMP:20260420T035322
CREATED:20250728T063843Z
LAST-MODIFIED:20250728T063845Z
UID:9521-1755419400-1755464400@hortadesantjoan.cat
SUMMARY:PITUFOS
DESCRIPTION:
URL:https://hortadesantjoan.cat/event/pitufos/
ATTACH;FMTTYPE=image/jpeg:https://hortadesantjoan.cat/wp-content/uploads/2025/07/foto-smurfs.jpg
END:VEVENT
BEGIN:VEVENT
DTSTART;TZID=Europe/Paris:20250817T110000
DTEND;TZID=Europe/Paris:20250817T210000
DTSTAMP:20260420T035322
CREATED:20250730T120832Z
LAST-MODIFIED:20250730T120834Z
UID:9537-1755428400-1755464400@hortadesantjoan.cat
SUMMARY:EXPOSICIÓ A LA PRESÓ
DESCRIPTION:
URL:https://hortadesantjoan.cat/event/exposicio-a-la-preso-2/
ATTACH;FMTTYPE=image/png:https://hortadesantjoan.cat/wp-content/uploads/2025/07/exposicio.png
END:VEVENT
BEGIN:VEVENT
DTSTART;TZID=Europe/Paris:20250824T190000
DTEND;TZID=Europe/Paris:20250824T210000
DTSTAMP:20260420T035322
CREATED:20250728T064124Z
LAST-MODIFIED:20250728T064222Z
UID:9525-1756062000-1756069200@hortadesantjoan.cat
SUMMARY:SÉ LO QUE HICÍSTEIS EL ÚLTIMO VERANO
DESCRIPTION:
URL:https://hortadesantjoan.cat/event/se-lo-que-hicisteis-el-ultimo-verano/
ATTACH;FMTTYPE=image/jpeg:https://hortadesantjoan.cat/wp-content/uploads/2025/07/foto-i-know.jpg
END:VEVENT
BEGIN:VEVENT
DTSTART;TZID=Europe/Paris:20250831T190000
DTEND;TZID=Europe/Paris:20250831T210000
DTSTAMP:20260420T035322
CREATED:20250728T064335Z
LAST-MODIFIED:20250728T064337Z
UID:9529-1756666800-1756674000@hortadesantjoan.cat
SUMMARY:KARATE KID: LEGENDS
DESCRIPTION:
URL:https://hortadesantjoan.cat/event/karate-kid-legends/
ATTACH;FMTTYPE=image/jpeg:https://hortadesantjoan.cat/wp-content/uploads/2025/07/FOTO-KARATE-KID-LEGENDS.jpg
END:VEVENT
BEGIN:VEVENT
DTSTART;TZID=Europe/Paris:20250906T080000
DTEND;TZID=Europe/Paris:20250913T210000
DTSTAMP:20260420T035322
CREATED:20250904T092156Z
LAST-MODIFIED:20250904T092831Z
UID:9568-1757145600-1757797200@hortadesantjoan.cat
SUMMARY:PROGRAMACIÓ DE FESTES DE SETEMBRE 2025
DESCRIPTION:llibret-FESTES-MAJORS-2025Baixa
URL:https://hortadesantjoan.cat/event/programacio-de-festes-de-setembre-2025/
ATTACH;FMTTYPE=image/png:https://hortadesantjoan.cat/wp-content/uploads/2025/09/llibre-festes.png
END:VEVENT
BEGIN:VEVENT
DTSTART;TZID=Europe/Paris:20250914T180000
DTEND;TZID=Europe/Paris:20250914T210000
DTSTAMP:20260420T035322
CREATED:20250904T070708Z
LAST-MODIFIED:20250904T070710Z
UID:9550-1757872800-1757883600@hortadesantjoan.cat
SUMMARY:CINEMA DIA 14 DE SETEMBRE 2025
DESCRIPTION:
URL:https://hortadesantjoan.cat/event/cinema-dia-14-de-setembre-2025/
ATTACH;FMTTYPE=image/jpeg:https://hortadesantjoan.cat/wp-content/uploads/2025/09/sin-cobertura.jpg
END:VEVENT
BEGIN:VEVENT
DTSTART;TZID=Europe/Paris:20250921T180000
DTEND;TZID=Europe/Paris:20250921T210000
DTSTAMP:20260420T035322
CREATED:20250904T070924Z
LAST-MODIFIED:20250904T070926Z
UID:9554-1758477600-1758488400@hortadesantjoan.cat
SUMMARY:CINEMA DIA 21 DE SETEMBRE DE 2025
DESCRIPTION:
URL:https://hortadesantjoan.cat/event/cinema-dia-21-de-setembre-de-2025/
ATTACH;FMTTYPE=image/png:https://hortadesantjoan.cat/wp-content/uploads/2025/09/els-super-elfkins.png
END:VEVENT
BEGIN:VEVENT
DTSTART;TZID=Europe/Paris:20250928T180000
DTEND;TZID=Europe/Paris:20250928T210000
DTSTAMP:20260420T035322
CREATED:20250904T071138Z
LAST-MODIFIED:20250904T071140Z
UID:9558-1759082400-1759093200@hortadesantjoan.cat
SUMMARY:CINEMA DIA 28 DE SETEMBRE DE 2025
DESCRIPTION:
URL:https://hortadesantjoan.cat/event/cinema-dia-28-de-setembre-de-2025/
ATTACH;FMTTYPE=image/jpeg:https://hortadesantjoan.cat/wp-content/uploads/2025/09/el-caso-que-marco-el-final.jpg
END:VEVENT
BEGIN:VEVENT
DTSTART;TZID=Europe/Paris:20251003T080000
DTEND;TZID=Europe/Paris:20251005T170000
DTSTAMP:20260420T035322
CREATED:20250924T064302Z
LAST-MODIFIED:20250924T064304Z
UID:9584-1759478400-1759683600@hortadesantjoan.cat
SUMMARY:DOLÇA TARDOR
DESCRIPTION:
URL:https://hortadesantjoan.cat/event/dolca-tardor/
ATTACH;FMTTYPE=image/jpeg:https://hortadesantjoan.cat/wp-content/uploads/2025/09/Dolca-Tardor.jpg
END:VEVENT
BEGIN:VEVENT
DTSTART;TZID=Europe/Paris:20251012T080000
DTEND;TZID=Europe/Paris:20251012T170000
DTSTAMP:20260420T035322
CREATED:20250924T064143Z
LAST-MODIFIED:20250924T064145Z
UID:9580-1760256000-1760288400@hortadesantjoan.cat
SUMMARY:NILAK
DESCRIPTION:
URL:https://hortadesantjoan.cat/event/nilak/
ATTACH;FMTTYPE=image/jpeg:https://hortadesantjoan.cat/wp-content/uploads/2025/09/Nilak-1.jpg
END:VEVENT
BEGIN:VEVENT
DTSTART;TZID=Europe/Paris:20251012T180000
DTEND;TZID=Europe/Paris:20251012T203000
DTSTAMP:20260420T035322
CREATED:20251009T075848Z
LAST-MODIFIED:20251009T075850Z
UID:9609-1760292000-1760301000@hortadesantjoan.cat
SUMMARY:CINEMA MUNICIPAL DIA 12 D'OCTUBRE DE 2025
DESCRIPTION:
URL:https://hortadesantjoan.cat/event/cinema-municipal-dia-12-doctubre-de-2025/
ATTACH;FMTTYPE=image/jpeg:https://hortadesantjoan.cat/wp-content/uploads/2025/10/romeria.jpg
END:VEVENT
BEGIN:VEVENT
DTSTART;TZID=Europe/Paris:20251019T180000
DTEND;TZID=Europe/Paris:20251019T203000
DTSTAMP:20260420T035322
CREATED:20251009T080017Z
LAST-MODIFIED:20251009T080019Z
UID:9613-1760896800-1760905800@hortadesantjoan.cat
SUMMARY:CINEMA MUNICIPAL DIA 19 D'OCTUBRE DE 2025
DESCRIPTION:
URL:https://hortadesantjoan.cat/event/cinema-municipal-dia-19-doctubre-de-2025/
ATTACH;FMTTYPE=image/webp:https://hortadesantjoan.cat/wp-content/uploads/2025/10/un-gran-viaje-atrevido-y-maravilloso.webp
END:VEVENT
BEGIN:VEVENT
DTSTART;TZID=Europe/Paris:20251024T190000
DTEND;TZID=Europe/Paris:20251024T220000
DTSTAMP:20260420T035322
CREATED:20251016T085155Z
LAST-MODIFIED:20251016T085157Z
UID:9639-1761332400-1761343200@hortadesantjoan.cat
SUMMARY:PROJECCIÓ I COL·LOQUI DE LA PEL·LÍCULA "LOS DESTELLOS"
DESCRIPTION:
URL:https://hortadesantjoan.cat/event/projeccio-i-col%c2%b7loqui-de-la-pel%c2%b7licula-los-destellos/
ATTACH;FMTTYPE=image/jpeg:https://hortadesantjoan.cat/wp-content/uploads/2025/10/CARTELL-Los-Destellos-24-octubre.jpeg
END:VEVENT
BEGIN:VEVENT
DTSTART;TZID=Europe/Paris:20251025T080000
DTEND;TZID=Europe/Paris:20251025T170000
DTSTAMP:20260420T035322
CREATED:20251016T085302Z
LAST-MODIFIED:20251016T085304Z
UID:9641-1761379200-1761411600@hortadesantjoan.cat
SUMMARY:TROBADA DE LA GENT GRAN
DESCRIPTION:
URL:https://hortadesantjoan.cat/event/trobada-de-la-gent-gran/
ATTACH;FMTTYPE=image/png:https://hortadesantjoan.cat/wp-content/uploads/2025/10/TROBADA-DE-LA-GENT-GRAN.png
END:VEVENT
BEGIN:VEVENT
DTSTART;TZID=Europe/Paris:20251026T180000
DTEND;TZID=Europe/Paris:20251026T203000
DTSTAMP:20260420T035322
CREATED:20251009T080154Z
LAST-MODIFIED:20251009T080157Z
UID:9617-1761501600-1761510600@hortadesantjoan.cat
SUMMARY:CINEMA MUNICIPAL DIA 26 D'OCTUBRE DE 2025
DESCRIPTION:
URL:https://hortadesantjoan.cat/event/cinema-municipal-dia-26-doctubre-de-2025/
ATTACH;FMTTYPE=image/jpeg:https://hortadesantjoan.cat/wp-content/uploads/2025/10/caza-de-brujas.jpg
END:VEVENT
BEGIN:VEVENT
DTSTART;TZID=Europe/Paris:20251102T180000
DTEND;TZID=Europe/Paris:20251102T210000
DTSTAMP:20260420T035322
CREATED:20251031T094523Z
LAST-MODIFIED:20251031T094526Z
UID:9652-1762106400-1762117200@hortadesantjoan.cat
SUMMARY:CINEMA MUNICIPAL DIA 2 DE NOVEMBRE
DESCRIPTION:
URL:https://hortadesantjoan.cat/event/cinema-municipal-dia-2-de-novembre/
ATTACH;FMTTYPE=image/jpeg:https://hortadesantjoan.cat/wp-content/uploads/2025/10/ACOSADA.jpg
END:VEVENT
END:VCALENDAR