BEGIN:VCALENDAR
VERSION:2.0
PRODID:-//Ajuntament Horta de Sant Joan - ECPv6.11.2.1//NONSGML v1.0//EN
CALSCALE:GREGORIAN
METHOD:PUBLISH
X-ORIGINAL-URL:https://hortadesantjoan.cat
X-WR-CALDESC:Esdeveniments per Ajuntament Horta de Sant Joan
REFRESH-INTERVAL;VALUE=DURATION:PT1H
X-Robots-Tag:noindex
X-PUBLISHED-TTL:PT1H
BEGIN:VTIMEZONE
TZID:Europe/Paris
BEGIN:DAYLIGHT
TZOFFSETFROM:+0100
TZOFFSETTO:+0200
TZNAME:CEST
DTSTART:20250330T010000
END:DAYLIGHT
BEGIN:STANDARD
TZOFFSETFROM:+0200
TZOFFSETTO:+0100
TZNAME:CET
DTSTART:20251026T010000
END:STANDARD
BEGIN:DAYLIGHT
TZOFFSETFROM:+0100
TZOFFSETTO:+0200
TZNAME:CEST
DTSTART:20260329T010000
END:DAYLIGHT
BEGIN:STANDARD
TZOFFSETFROM:+0200
TZOFFSETTO:+0100
TZNAME:CET
DTSTART:20261025T010000
END:STANDARD
END:VTIMEZONE
BEGIN:VEVENT
DTSTART;TZID=Europe/Paris:20250921T180000
DTEND;TZID=Europe/Paris:20250921T210000
DTSTAMP:20260420T003119
CREATED:20250904T070924Z
LAST-MODIFIED:20250904T070926Z
UID:9554-1758477600-1758488400@hortadesantjoan.cat
SUMMARY:CINEMA DIA 21 DE SETEMBRE DE 2025
DESCRIPTION:
URL:https://hortadesantjoan.cat/event/cinema-dia-21-de-setembre-de-2025/
ATTACH;FMTTYPE=image/png:https://hortadesantjoan.cat/wp-content/uploads/2025/09/els-super-elfkins.png
END:VEVENT
BEGIN:VEVENT
DTSTART;TZID=Europe/Paris:20250928T180000
DTEND;TZID=Europe/Paris:20250928T210000
DTSTAMP:20260420T003119
CREATED:20250904T071138Z
LAST-MODIFIED:20250904T071140Z
UID:9558-1759082400-1759093200@hortadesantjoan.cat
SUMMARY:CINEMA DIA 28 DE SETEMBRE DE 2025
DESCRIPTION:
URL:https://hortadesantjoan.cat/event/cinema-dia-28-de-setembre-de-2025/
ATTACH;FMTTYPE=image/jpeg:https://hortadesantjoan.cat/wp-content/uploads/2025/09/el-caso-que-marco-el-final.jpg
END:VEVENT
BEGIN:VEVENT
DTSTART;TZID=Europe/Paris:20251003T080000
DTEND;TZID=Europe/Paris:20251005T170000
DTSTAMP:20260420T003119
CREATED:20250924T064302Z
LAST-MODIFIED:20250924T064304Z
UID:9584-1759478400-1759683600@hortadesantjoan.cat
SUMMARY:DOLÇA TARDOR
DESCRIPTION:
URL:https://hortadesantjoan.cat/event/dolca-tardor/
ATTACH;FMTTYPE=image/jpeg:https://hortadesantjoan.cat/wp-content/uploads/2025/09/Dolca-Tardor.jpg
END:VEVENT
BEGIN:VEVENT
DTSTART;TZID=Europe/Paris:20251012T080000
DTEND;TZID=Europe/Paris:20251012T170000
DTSTAMP:20260420T003119
CREATED:20250924T064143Z
LAST-MODIFIED:20250924T064145Z
UID:9580-1760256000-1760288400@hortadesantjoan.cat
SUMMARY:NILAK
DESCRIPTION:
URL:https://hortadesantjoan.cat/event/nilak/
ATTACH;FMTTYPE=image/jpeg:https://hortadesantjoan.cat/wp-content/uploads/2025/09/Nilak-1.jpg
END:VEVENT
BEGIN:VEVENT
DTSTART;TZID=Europe/Paris:20251012T180000
DTEND;TZID=Europe/Paris:20251012T203000
DTSTAMP:20260420T003119
CREATED:20251009T075848Z
LAST-MODIFIED:20251009T075850Z
UID:9609-1760292000-1760301000@hortadesantjoan.cat
SUMMARY:CINEMA MUNICIPAL DIA 12 D'OCTUBRE DE 2025
DESCRIPTION:
URL:https://hortadesantjoan.cat/event/cinema-municipal-dia-12-doctubre-de-2025/
ATTACH;FMTTYPE=image/jpeg:https://hortadesantjoan.cat/wp-content/uploads/2025/10/romeria.jpg
END:VEVENT
BEGIN:VEVENT
DTSTART;TZID=Europe/Paris:20251019T180000
DTEND;TZID=Europe/Paris:20251019T203000
DTSTAMP:20260420T003119
CREATED:20251009T080017Z
LAST-MODIFIED:20251009T080019Z
UID:9613-1760896800-1760905800@hortadesantjoan.cat
SUMMARY:CINEMA MUNICIPAL DIA 19 D'OCTUBRE DE 2025
DESCRIPTION:
URL:https://hortadesantjoan.cat/event/cinema-municipal-dia-19-doctubre-de-2025/
ATTACH;FMTTYPE=image/webp:https://hortadesantjoan.cat/wp-content/uploads/2025/10/un-gran-viaje-atrevido-y-maravilloso.webp
END:VEVENT
BEGIN:VEVENT
DTSTART;TZID=Europe/Paris:20251024T190000
DTEND;TZID=Europe/Paris:20251024T220000
DTSTAMP:20260420T003119
CREATED:20251016T085155Z
LAST-MODIFIED:20251016T085157Z
UID:9639-1761332400-1761343200@hortadesantjoan.cat
SUMMARY:PROJECCIÓ I COL·LOQUI DE LA PEL·LÍCULA "LOS DESTELLOS"
DESCRIPTION:
URL:https://hortadesantjoan.cat/event/projeccio-i-col%c2%b7loqui-de-la-pel%c2%b7licula-los-destellos/
ATTACH;FMTTYPE=image/jpeg:https://hortadesantjoan.cat/wp-content/uploads/2025/10/CARTELL-Los-Destellos-24-octubre.jpeg
END:VEVENT
BEGIN:VEVENT
DTSTART;TZID=Europe/Paris:20251025T080000
DTEND;TZID=Europe/Paris:20251025T170000
DTSTAMP:20260420T003119
CREATED:20251016T085302Z
LAST-MODIFIED:20251016T085304Z
UID:9641-1761379200-1761411600@hortadesantjoan.cat
SUMMARY:TROBADA DE LA GENT GRAN
DESCRIPTION:
URL:https://hortadesantjoan.cat/event/trobada-de-la-gent-gran/
ATTACH;FMTTYPE=image/png:https://hortadesantjoan.cat/wp-content/uploads/2025/10/TROBADA-DE-LA-GENT-GRAN.png
END:VEVENT
BEGIN:VEVENT
DTSTART;TZID=Europe/Paris:20251026T180000
DTEND;TZID=Europe/Paris:20251026T203000
DTSTAMP:20260420T003119
CREATED:20251009T080154Z
LAST-MODIFIED:20251009T080157Z
UID:9617-1761501600-1761510600@hortadesantjoan.cat
SUMMARY:CINEMA MUNICIPAL DIA 26 D'OCTUBRE DE 2025
DESCRIPTION:
URL:https://hortadesantjoan.cat/event/cinema-municipal-dia-26-doctubre-de-2025/
ATTACH;FMTTYPE=image/jpeg:https://hortadesantjoan.cat/wp-content/uploads/2025/10/caza-de-brujas.jpg
END:VEVENT
BEGIN:VEVENT
DTSTART;TZID=Europe/Paris:20251102T180000
DTEND;TZID=Europe/Paris:20251102T210000
DTSTAMP:20260420T003119
CREATED:20251031T094523Z
LAST-MODIFIED:20251031T094526Z
UID:9652-1762106400-1762117200@hortadesantjoan.cat
SUMMARY:CINEMA MUNICIPAL DIA 2 DE NOVEMBRE
DESCRIPTION:
URL:https://hortadesantjoan.cat/event/cinema-municipal-dia-2-de-novembre/
ATTACH;FMTTYPE=image/jpeg:https://hortadesantjoan.cat/wp-content/uploads/2025/10/ACOSADA.jpg
END:VEVENT
BEGIN:VEVENT
DTSTART;TZID=Europe/Paris:20251109T180000
DTEND;TZID=Europe/Paris:20251109T210000
DTSTAMP:20260420T003119
CREATED:20251031T094812Z
LAST-MODIFIED:20251031T094814Z
UID:9656-1762711200-1762722000@hortadesantjoan.cat
SUMMARY:CINEMA MUNICIPAL DIA 9 DE NOVEMBRE DE 2025
DESCRIPTION:
URL:https://hortadesantjoan.cat/event/cinema-municipal-dia-9-de-novembre-de-2025/
ATTACH;FMTTYPE=image/jpeg:https://hortadesantjoan.cat/wp-content/uploads/2025/10/A-PESAR-DE-TI.jpg
END:VEVENT
BEGIN:VEVENT
DTSTART;TZID=Europe/Paris:20251116T180000
DTEND;TZID=Europe/Paris:20251116T210000
DTSTAMP:20260420T003119
CREATED:20251031T100621Z
LAST-MODIFIED:20251031T100623Z
UID:9660-1763316000-1763326800@hortadesantjoan.cat
SUMMARY:CINEMA MUNICIPAL DIA 17 DE NOVEMBRE DE 2025
DESCRIPTION:
URL:https://hortadesantjoan.cat/event/cinema-municipal-dia-17-de-novembre-de-2025/
ATTACH;FMTTYPE=image/jpeg:https://hortadesantjoan.cat/wp-content/uploads/2025/10/HITPIG.jpg
END:VEVENT
BEGIN:VEVENT
DTSTART;TZID=Europe/Paris:20251123T180000
DTEND;TZID=Europe/Paris:20251123T210000
DTSTAMP:20260420T003119
CREATED:20251031T100832Z
LAST-MODIFIED:20251031T100835Z
UID:9664-1763920800-1763931600@hortadesantjoan.cat
SUMMARY:CINEMA MUNICIPAL DIA 23 DE NOVEMBRE DE 2025
DESCRIPTION:
URL:https://hortadesantjoan.cat/event/cinema-municipal-dia-23-de-novembre-de-2025/
ATTACH;FMTTYPE=image/jpeg:https://hortadesantjoan.cat/wp-content/uploads/2025/10/MI-AMIGA-EVA.jpg
END:VEVENT
BEGIN:VEVENT
DTSTART;TZID=Europe/Paris:20251130T180000
DTEND;TZID=Europe/Paris:20251130T210000
DTSTAMP:20260420T003119
CREATED:20251031T101129Z
LAST-MODIFIED:20251031T101131Z
UID:9668-1764525600-1764536400@hortadesantjoan.cat
SUMMARY:CINEMA MUNICIPAL DIA 30 DE NOVEMBRE DE 2025
DESCRIPTION:
URL:https://hortadesantjoan.cat/event/cinema-municipal-dia-30-de-novembre-de-2025/
ATTACH;FMTTYPE=image/jpeg:https://hortadesantjoan.cat/wp-content/uploads/2025/10/LOS-DOMINGOS.jpg
END:VEVENT
BEGIN:VEVENT
DTSTART;TZID=Europe/Paris:20251205T190000
DTEND;TZID=Europe/Paris:20251205T193000
DTSTAMP:20260420T003119
CREATED:20251204T103843Z
LAST-MODIFIED:20251204T103908Z
UID:9700-1764961200-1764963000@hortadesantjoan.cat
SUMMARY:INAUGURACIÓ EXPOSICIÓ IMATGES INÈDITES - CENTRE PICASSO
DESCRIPTION:
URL:https://hortadesantjoan.cat/event/inauguracio-exposicio-imatges-ineditesi-centre-picasso/
ATTACH;FMTTYPE=image/jpeg:https://hortadesantjoan.cat/wp-content/uploads/2025/12/PICASSO.jpg
END:VEVENT
BEGIN:VEVENT
DTSTART;TZID=Europe/Paris:20251206T090000
DTEND;TZID=Europe/Paris:20251206T170000
DTSTAMP:20260420T003119
CREATED:20251205T135909Z
LAST-MODIFIED:20251205T135943Z
UID:9711-1765011600-1765040400@hortadesantjoan.cat
SUMMARY:8a CAMINS DELS PORTS
DESCRIPTION:
URL:https://hortadesantjoan.cat/event/8a-camins-dels-ports/
ATTACH;FMTTYPE=image/png:https://hortadesantjoan.cat/wp-content/uploads/2025/12/CAMINS.png
END:VEVENT
BEGIN:VEVENT
DTSTART;TZID=Europe/Paris:20251207T080000
DTEND;TZID=Europe/Paris:20251207T170000
DTSTAMP:20260420T003119
CREATED:20251205T140148Z
LAST-MODIFIED:20251205T140150Z
UID:9717-1765094400-1765126800@hortadesantjoan.cat
SUMMARY:SOPAR / ESPECTACLE PER A COL·LABORAR AMB LA MARATÓ
DESCRIPTION:
URL:https://hortadesantjoan.cat/event/sopar-espectacle-per-a-col%c2%b7laborar-amb-la-marato/
ATTACH;FMTTYPE=image/jpeg:https://hortadesantjoan.cat/wp-content/uploads/2025/12/La-Marato.jpeg
END:VEVENT
BEGIN:VEVENT
DTSTART;TZID=Europe/Paris:20260117T080000
DTEND;TZID=Europe/Paris:20260117T233000
DTSTAMP:20260420T003119
CREATED:20260114T121240Z
LAST-MODIFIED:20260114T121242Z
UID:9760-1768636800-1768692600@hortadesantjoan.cat
SUMMARY:FESTA DE SANT ANTONI 2026
DESCRIPTION:
URL:https://hortadesantjoan.cat/event/festa-de-sant-antoni-2026/
ATTACH;FMTTYPE=image/jpeg:https://hortadesantjoan.cat/wp-content/uploads/2026/01/cartell-sant-antoni-2.jpg
END:VEVENT
BEGIN:VEVENT
DTSTART;TZID=Europe/Paris:20260118T180000
DTEND;TZID=Europe/Paris:20260118T203000
DTSTAMP:20260420T003119
CREATED:20260114T121832Z
LAST-MODIFIED:20260114T121834Z
UID:9764-1768759200-1768768200@hortadesantjoan.cat
SUMMARY:CINEMA MUNICIPAL DIA 18 DE GENER DE 2026
DESCRIPTION:
URL:https://hortadesantjoan.cat/event/cinema-municipal-dia-18-de-gener-de-2026/
ATTACH;FMTTYPE=image/jpeg:https://hortadesantjoan.cat/wp-content/uploads/2026/01/LA-ASISTENTA.jpg
END:VEVENT
BEGIN:VEVENT
DTSTART;TZID=Europe/Paris:20260125T180000
DTEND;TZID=Europe/Paris:20260125T203000
DTSTAMP:20260420T003119
CREATED:20260114T122032Z
LAST-MODIFIED:20260114T122034Z
UID:9768-1769364000-1769373000@hortadesantjoan.cat
SUMMARY:CINEMA DIA 25 DE GENER DE 2026
DESCRIPTION:
URL:https://hortadesantjoan.cat/event/cinema-dia-25-de-gener-de-2026/
ATTACH;FMTTYPE=image/jpeg:https://hortadesantjoan.cat/wp-content/uploads/2026/01/ABUELA-TREMENDA.jpg
END:VEVENT
BEGIN:VEVENT
DTSTART;TZID=Europe/Paris:20260201T180000
DTEND;TZID=Europe/Paris:20260201T203000
DTSTAMP:20260420T003119
CREATED:20260129T070806Z
LAST-MODIFIED:20260129T070809Z
UID:9790-1769968800-1769977800@hortadesantjoan.cat
SUMMARY:CINEMA DIA 1 DE FEBRER DE 2026
DESCRIPTION:
URL:https://hortadesantjoan.cat/event/cinema-dia-1-de-febrer-de-2026/
ATTACH;FMTTYPE=image/jpeg:https://hortadesantjoan.cat/wp-content/uploads/2026/01/sentimental_value-941449441-large.jpg
END:VEVENT
BEGIN:VEVENT
DTSTART;TZID=Europe/Paris:20260208T080000
DTEND;TZID=Europe/Paris:20260208T233000
DTSTAMP:20260420T003119
CREATED:20260114T121413Z
LAST-MODIFIED:20260114T121416Z
UID:9762-1770537600-1770593400@hortadesantjoan.cat
SUMMARY:FESTA DE SANTA ÀGUEDA 2026
DESCRIPTION:
URL:https://hortadesantjoan.cat/event/festa-de-santa-agueda-2026/
ATTACH;FMTTYPE=image/jpeg:https://hortadesantjoan.cat/wp-content/uploads/2026/01/FESTA-DE-SANTA-AGUEDA-2026.jpeg
END:VEVENT
BEGIN:VEVENT
DTSTART;TZID=Europe/Paris:20260208T180000
DTEND;TZID=Europe/Paris:20260208T203000
DTSTAMP:20260420T003119
CREATED:20260129T071021Z
LAST-MODIFIED:20260129T071023Z
UID:9794-1770573600-1770582600@hortadesantjoan.cat
SUMMARY:CINEMA DIA 8 DE FEBRER DE 2025
DESCRIPTION:
URL:https://hortadesantjoan.cat/event/cinema-dia-8-de-febrer-de-2025/
ATTACH;FMTTYPE=image/jpeg:https://hortadesantjoan.cat/wp-content/uploads/2026/01/vie_privee-761512692-large.jpg
END:VEVENT
BEGIN:VEVENT
DTSTART;TZID=Europe/Paris:20260215T180000
DTEND;TZID=Europe/Paris:20260215T203000
DTSTAMP:20260420T003119
CREATED:20260129T071158Z
LAST-MODIFIED:20260129T071200Z
UID:9798-1771178400-1771187400@hortadesantjoan.cat
SUMMARY:CINEMA DIA 15 DE FEBRER DE 2026
DESCRIPTION:
URL:https://hortadesantjoan.cat/event/cinema-dia-15-de-febrer-de-2026/
ATTACH;FMTTYPE=image/jpeg:https://hortadesantjoan.cat/wp-content/uploads/2026/01/eternity-955873791-large.jpg
END:VEVENT
BEGIN:VEVENT
DTSTART;TZID=Europe/Paris:20260221T110000
DTEND;TZID=Europe/Paris:20260221T233000
DTSTAMP:20260420T003119
CREATED:20260216T101557Z
LAST-MODIFIED:20260216T101839Z
UID:9860-1771671600-1771716600@hortadesantjoan.cat
SUMMARY:FESTA DE CARNAVAL
DESCRIPTION:
URL:https://hortadesantjoan.cat/event/festa-de-carnaval/
ATTACH;FMTTYPE=image/jpeg:https://hortadesantjoan.cat/wp-content/uploads/2026/02/0cca153f-1438-40ab-845b-cbed0677f413-1.jpg
END:VEVENT
BEGIN:VEVENT
DTSTART;TZID=Europe/Paris:20260222T180000
DTEND;TZID=Europe/Paris:20260222T203000
DTSTAMP:20260420T003119
CREATED:20260129T071359Z
LAST-MODIFIED:20260129T071402Z
UID:9802-1771783200-1771792200@hortadesantjoan.cat
SUMMARY:CINEMA DIA 22 DE FEBRER DE 2026
DESCRIPTION:
URL:https://hortadesantjoan.cat/event/cinema-dia-22-de-febrer-de-2026/
ATTACH;FMTTYPE=image/jpeg:https://hortadesantjoan.cat/wp-content/uploads/2026/01/aida_y_vuelta-623102843-large.jpg
END:VEVENT
BEGIN:VEVENT
DTSTART;TZID=Europe/Paris:20260301T180000
DTEND;TZID=Europe/Paris:20260301T210000
DTSTAMP:20260420T003119
CREATED:20260216T093319Z
LAST-MODIFIED:20260216T093322Z
UID:9832-1772388000-1772398800@hortadesantjoan.cat
SUMMARY:CINEMA MUNICIPAL DIA 1 DE MARÇ
DESCRIPTION:
URL:https://hortadesantjoan.cat/event/cinema-municipal-dia-1-de-marc/
ATTACH;FMTTYPE=image/jpeg:https://hortadesantjoan.cat/wp-content/uploads/2026/02/UNA-BATALLA-TRAS-OTRA.jpg
END:VEVENT
BEGIN:VEVENT
DTSTART;TZID=Europe/Paris:20260307T170000
DTEND;TZID=Europe/Paris:20260307T200000
DTSTAMP:20260420T003119
CREATED:20260227T094749Z
LAST-MODIFIED:20260227T094752Z
UID:9868-1772902800-1772913600@hortadesantjoan.cat
SUMMARY:DIA INTERNACIONAL DE LA DONA
DESCRIPTION:
URL:https://hortadesantjoan.cat/event/dia-internacional-de-la-dona/
ATTACH;FMTTYPE=image/jpeg:https://hortadesantjoan.cat/wp-content/uploads/2026/02/IMG-20260225-WA0001.jpg
END:VEVENT
BEGIN:VEVENT
DTSTART;TZID=Europe/Paris:20260308T180000
DTEND;TZID=Europe/Paris:20260308T210000
DTSTAMP:20260420T003119
CREATED:20260216T093454Z
LAST-MODIFIED:20260216T093457Z
UID:9836-1772992800-1773003600@hortadesantjoan.cat
SUMMARY:CINEMA MUNICIPAL DIA 8 DE MARÇ
DESCRIPTION:
URL:https://hortadesantjoan.cat/event/cinema-municipal-dia-8-de-marc/
ATTACH;FMTTYPE=image/jpeg:https://hortadesantjoan.cat/wp-content/uploads/2026/02/FRANKENSTEIN.jpg
END:VEVENT
BEGIN:VEVENT
DTSTART;TZID=Europe/Paris:20260315T180000
DTEND;TZID=Europe/Paris:20260315T210000
DTSTAMP:20260420T003119
CREATED:20260216T093633Z
LAST-MODIFIED:20260216T093636Z
UID:9840-1773597600-1773608400@hortadesantjoan.cat
SUMMARY:CINEMA MUNICIPAL DIA 15 DE MARÇ DE 2026
DESCRIPTION:
URL:https://hortadesantjoan.cat/event/cinema-municipal-dia-15-de-marc-de-2026/
ATTACH;FMTTYPE=image/jpeg:https://hortadesantjoan.cat/wp-content/uploads/2026/02/SIRAT.jpg
END:VEVENT
END:VCALENDAR