BEGIN:VCALENDAR
VERSION:2.0
PRODID:-//Ajuntament Horta de Sant Joan - ECPv6.11.2.1//NONSGML v1.0//EN
CALSCALE:GREGORIAN
METHOD:PUBLISH
X-ORIGINAL-URL:https://hortadesantjoan.cat
X-WR-CALDESC:Esdeveniments per Ajuntament Horta de Sant Joan
REFRESH-INTERVAL;VALUE=DURATION:PT1H
X-Robots-Tag:noindex
X-PUBLISHED-TTL:PT1H
BEGIN:VTIMEZONE
TZID:Europe/Paris
BEGIN:DAYLIGHT
TZOFFSETFROM:+0100
TZOFFSETTO:+0200
TZNAME:CEST
DTSTART:20240331T010000
END:DAYLIGHT
BEGIN:STANDARD
TZOFFSETFROM:+0200
TZOFFSETTO:+0100
TZNAME:CET
DTSTART:20241027T010000
END:STANDARD
END:VTIMEZONE
BEGIN:VEVENT
DTSTART;TZID=Europe/Paris:20241006T080000
DTEND;TZID=Europe/Paris:20241006T200000
DTSTAMP:20260420T061748
CREATED:20241004T085303Z
LAST-MODIFIED:20241004T085306Z
UID:8777-1728201600-1728244800@hortadesantjoan.cat
SUMMARY:FIRA DOLÇA TARDOR
DESCRIPTION:
URL:https://hortadesantjoan.cat/event/fira-dolca-tardor/
ATTACH;FMTTYPE=image/jpeg:https://hortadesantjoan.cat/wp-content/uploads/2024/10/Cartell-Dolca-Tardor-2024-1.jpg
END:VEVENT
BEGIN:VEVENT
DTSTART;TZID=Europe/Paris:20241013T180000
DTEND;TZID=Europe/Paris:20241013T203000
DTSTAMP:20260420T061748
CREATED:20241011T130326Z
LAST-MODIFIED:20241014T063507Z
UID:8793-1728842400-1728851400@hortadesantjoan.cat
SUMMARY:CINEMA DIA 13 D'OCTUBRE DE 2024
DESCRIPTION:
URL:https://hortadesantjoan.cat/event/cinema-dia-13-doctubre-de-2024/
ATTACH;FMTTYPE=image/jpeg:https://hortadesantjoan.cat/wp-content/uploads/2024/10/20240923_Uns-altres_foto-lavia-i-el-foraster.jpg
END:VEVENT
BEGIN:VEVENT
DTSTART;TZID=Europe/Paris:20241020T180000
DTEND;TZID=Europe/Paris:20241020T210000
DTSTAMP:20260420T061748
CREATED:20241014T064513Z
LAST-MODIFIED:20241014T064515Z
UID:8802-1729447200-1729458000@hortadesantjoan.cat
SUMMARY:CINEMA MUNICIPAL 20 D'OCTUBRE 2024
DESCRIPTION:
URL:https://hortadesantjoan.cat/event/cinema-municipal-20-doctubre-2024/
ATTACH;FMTTYPE=image/jpeg:https://hortadesantjoan.cat/wp-content/uploads/2024/10/foto-bitelchus.jpg
END:VEVENT
BEGIN:VEVENT
DTSTART;TZID=Europe/Paris:20241027T180000
DTEND;TZID=Europe/Paris:20241027T210000
DTSTAMP:20260420T061748
CREATED:20241014T064922Z
LAST-MODIFIED:20241014T064924Z
UID:8806-1730052000-1730062800@hortadesantjoan.cat
SUMMARY:CINEMA MUNICIPAL 27 OCTUBRE 2024
DESCRIPTION:
URL:https://hortadesantjoan.cat/event/cinema-municipal-27-octubre-2024/
ATTACH;FMTTYPE=image/jpeg:https://hortadesantjoan.cat/wp-content/uploads/2024/10/foto-la-virgen-roja.jpg
END:VEVENT
BEGIN:VEVENT
DTSTART;TZID=Europe/Paris:20241028T080000
DTEND;TZID=Europe/Paris:20241216T230000
DTSTAMP:20260420T061748
CREATED:20241028T134216Z
LAST-MODIFIED:20241028T135721Z
UID:8835-1730102400-1734390000@hortadesantjoan.cat
SUMMARY:XERRADES DE LA FARMÀCIA
DESCRIPTION:
URL:https://hortadesantjoan.cat/event/xerrades-de-la-farmacia/
ATTACH;FMTTYPE=image/jpeg:https://hortadesantjoan.cat/wp-content/uploads/2024/10/XERRADES-.jpg
END:VEVENT
END:VCALENDAR