BEGIN:VCALENDAR
VERSION:2.0
PRODID:-//Ajuntament Horta de Sant Joan - ECPv6.11.2.1//NONSGML v1.0//EN
CALSCALE:GREGORIAN
METHOD:PUBLISH
X-ORIGINAL-URL:https://hortadesantjoan.cat
X-WR-CALDESC:Esdeveniments per Ajuntament Horta de Sant Joan
REFRESH-INTERVAL;VALUE=DURATION:PT1H
X-Robots-Tag:noindex
X-PUBLISHED-TTL:PT1H
BEGIN:VTIMEZONE
TZID:Europe/Paris
BEGIN:DAYLIGHT
TZOFFSETFROM:+0100
TZOFFSETTO:+0200
TZNAME:CEST
DTSTART:20250330T010000
END:DAYLIGHT
BEGIN:STANDARD
TZOFFSETFROM:+0200
TZOFFSETTO:+0100
TZNAME:CET
DTSTART:20251026T010000
END:STANDARD
END:VTIMEZONE
BEGIN:VEVENT
DTSTART;TZID=Europe/Paris:20250425T173000
DTEND;TZID=Europe/Paris:20250726T200000
DTSTAMP:20260425T122044
CREATED:20250312T085836Z
LAST-MODIFIED:20250520T090819Z
UID:9073-1745602200-1753560000@hortadesantjoan.cat
SUMMARY:CICLE DE TEATRE FAMILIAR
DESCRIPTION:
URL:https://hortadesantjoan.cat/event/cicle-de-teatre-familiar-3/
ATTACH;FMTTYPE=image/jpeg:https://hortadesantjoan.cat/wp-content/uploads/2025/03/CICLE-DE-TEATRE-FAMILIAR-1.jpg
END:VEVENT
BEGIN:VEVENT
DTSTART;TZID=Europe/Paris:20250427T080000
DTEND;TZID=Europe/Paris:20250909T170000
DTSTAMP:20260425T122044
CREATED:20250520T090107Z
LAST-MODIFIED:20250520T090109Z
UID:9284-1745740800-1757437200@hortadesantjoan.cat
SUMMARY:CICLE DE CIRC A HORTA DE SANT JOAN
DESCRIPTION:
URL:https://hortadesantjoan.cat/event/cicle-de-circ-a-horta-de-sant-joan/
ATTACH;FMTTYPE=image/jpeg:https://hortadesantjoan.cat/wp-content/uploads/2025/05/cicle-de-circ-a-horta-1.jpg
END:VEVENT
BEGIN:VEVENT
DTSTART;TZID=Europe/Paris:20250601T180000
DTEND;TZID=Europe/Paris:20250601T203000
DTSTAMP:20260425T122044
CREATED:20250526T122315Z
LAST-MODIFIED:20250526T122317Z
UID:9290-1748800800-1748809800@hortadesantjoan.cat
SUMMARY:CINEMA DIA 1 DE JUNY DE 2025
DESCRIPTION:
URL:https://hortadesantjoan.cat/event/cinema-dia-1-de-juny-de-2025/
ATTACH;FMTTYPE=image/jpeg:https://hortadesantjoan.cat/wp-content/uploads/2025/05/the_amateur-864303328-mmed.jpg
END:VEVENT
BEGIN:VEVENT
DTSTART;TZID=Europe/Paris:20250605T103000
DTEND;TZID=Europe/Paris:20250605T143000
DTSTAMP:20260425T122044
CREATED:20250530T062351Z
LAST-MODIFIED:20250530T062354Z
UID:9327-1749119400-1749133800@hortadesantjoan.cat
SUMMARY:JORNADA TÈCNICA: PRODUCTES TURÍSTICS PER EVITAR LA MASSIFICACIÓ DELS BOSCOS
DESCRIPTION:
URL:https://hortadesantjoan.cat/event/jornada-tecnica-productes-turistics-per-evitar-la-massificacio-dels-boscos/
ATTACH;FMTTYPE=image/png:https://hortadesantjoan.cat/wp-content/uploads/2025/05/experiencies-decoturisme.png
END:VEVENT
BEGIN:VEVENT
DTSTART;TZID=Europe/Paris:20250607T173000
DTEND;TZID=Europe/Paris:20250607T200000
DTSTAMP:20260425T122044
CREATED:20250520T085954Z
LAST-MODIFIED:20250520T090732Z
UID:9278-1749317400-1749326400@hortadesantjoan.cat
SUMMARY:CICLE DE TEATRE FAMILIAR A HORTA DE SANT JOAN
DESCRIPTION:
URL:https://hortadesantjoan.cat/event/cicle-de-teatre-familiar-a-horta-de-sant-joan/
ATTACH;FMTTYPE=image/jpeg:https://hortadesantjoan.cat/wp-content/uploads/2025/05/cicle-de-teatre-familiar-1.jpg
END:VEVENT
BEGIN:VEVENT
DTSTART;TZID=Europe/Paris:20250608T110000
DTEND;TZID=Europe/Paris:20250608T170000
DTSTAMP:20260425T122044
CREATED:20250529T072400Z
LAST-MODIFIED:20250529T072402Z
UID:9319-1749380400-1749402000@hortadesantjoan.cat
SUMMARY:MISSA CANTADA I PETIT CONCERT
DESCRIPTION:
URL:https://hortadesantjoan.cat/event/missa-cantada-i-petit-concert/
ATTACH;FMTTYPE=image/png:https://hortadesantjoan.cat/wp-content/uploads/2025/05/CONCERT-ESGLESIA.png
END:VEVENT
BEGIN:VEVENT
DTSTART;TZID=Europe/Paris:20250608T180000
DTEND;TZID=Europe/Paris:20250608T203000
DTSTAMP:20260425T122044
CREATED:20250526T122503Z
LAST-MODIFIED:20250526T122505Z
UID:9294-1749405600-1749414600@hortadesantjoan.cat
SUMMARY:CINEMA MUNICIPAL DIA 8 DE JUNY
DESCRIPTION:
URL:https://hortadesantjoan.cat/event/cinema-municipal-dia-8-de-juny/
ATTACH;FMTTYPE=image/jpeg:https://hortadesantjoan.cat/wp-content/uploads/2025/05/presuncion-de-inocencia.jpg
END:VEVENT
BEGIN:VEVENT
DTSTART;TZID=Europe/Paris:20250615T180000
DTEND;TZID=Europe/Paris:20250615T203000
DTSTAMP:20260425T122044
CREATED:20250526T122650Z
LAST-MODIFIED:20250526T122653Z
UID:9298-1750010400-1750019400@hortadesantjoan.cat
SUMMARY:CINEMA MUNICIPAL DIA 15 DE JUNY
DESCRIPTION:
URL:https://hortadesantjoan.cat/event/cinema-municipal-dia-15-de-juny/
ATTACH;FMTTYPE=image/jpeg:https://hortadesantjoan.cat/wp-content/uploads/2025/05/unfuneral-de-locos.jpg
END:VEVENT
BEGIN:VEVENT
DTSTART;TZID=Europe/Paris:20250622T180000
DTEND;TZID=Europe/Paris:20250622T203000
DTSTAMP:20260425T122044
CREATED:20250526T122832Z
LAST-MODIFIED:20250526T122833Z
UID:9302-1750615200-1750624200@hortadesantjoan.cat
SUMMARY:CINEMA MUNICIPAL DIA 22 DE JUNY
DESCRIPTION:
URL:https://hortadesantjoan.cat/event/cinema-municipal-dia-22-de-juny/
ATTACH;FMTTYPE=image/webp:https://hortadesantjoan.cat/wp-content/uploads/2025/05/mision-imposible.webp
END:VEVENT
BEGIN:VEVENT
DTSTART;TZID=Europe/Paris:20250623T180000
DTEND;TZID=Europe/Paris:20250624T030000
DTSTAMP:20260425T122044
CREATED:20250612T120132Z
LAST-MODIFIED:20250618T124038Z
UID:9347-1750701600-1750734000@hortadesantjoan.cat
SUMMARY:REVETLLA DE SANT JOAN
DESCRIPTION:
URL:https://hortadesantjoan.cat/event/revetlla-de-sant-joan-2/
ATTACH;FMTTYPE=image/jpeg:https://hortadesantjoan.cat/wp-content/uploads/2025/06/cartell-sant-joan-2025-1.jpg
END:VEVENT
BEGIN:VEVENT
DTSTART;TZID=Europe/Paris:20250628T180000
DTEND;TZID=Europe/Paris:20250628T200000
DTSTAMP:20260425T122044
CREATED:20250625T125018Z
LAST-MODIFIED:20250625T125400Z
UID:9409-1751133600-1751140800@hortadesantjoan.cat
SUMMARY:CONCERT 10è ANIVERSARI BANDA COMARCAL DE LA TERRA ALTA
DESCRIPTION:
URL:https://hortadesantjoan.cat/event/concert-10e-aniversari-banda-comarcal-de-la-terra-alta/
ATTACH;FMTTYPE=image/jpeg:https://hortadesantjoan.cat/wp-content/uploads/2025/06/Concert-10e-aniversari-Banda-Comarcal-de-la-Terra-Alta-Convent-Sant-Salvador.jpeg
END:VEVENT
BEGIN:VEVENT
DTSTART;TZID=Europe/Paris:20250629T180000
DTEND;TZID=Europe/Paris:20250629T203000
DTSTAMP:20260425T122044
CREATED:20250526T123021Z
LAST-MODIFIED:20250526T123023Z
UID:9306-1751220000-1751229000@hortadesantjoan.cat
SUMMARY:CINEMA MUNICIPAL DIA 29 DE JUNY
DESCRIPTION:
URL:https://hortadesantjoan.cat/event/cinema-municipal-dia-29-de-juny/
ATTACH;FMTTYPE=image/jpeg:https://hortadesantjoan.cat/wp-content/uploads/2025/05/LILO-Y-STITCH.jpg
END:VEVENT
END:VCALENDAR